BEGIN:VCALENDAR
VERSION:2.0
PRODID:-//ChamberMaster//Event Calendar 2.0//EN
METHOD:PUBLISH
X-PUBLISHED-TTL:P3D
REFRESH-INTERVAL:P3D
CALSCALE:GREGORIAN
BEGIN:VEVENT
DTSTART:20210812T160000Z
DTEND:20210812T170000Z
X-MICROSOFT-CDO-ALLDAYEVENT:FALSE
SUMMARY:CTSBDC "
DESCRIPTION:This workshop will cover the basic facts about trademarks. We will explore the different types of trademarks\, including names\, designs\, logos\, and trade dress. We will discuss strategies to perform a trademark search\, strengthen descriptive marks\, and layout the steps to file a trademark application and all fees associated with trademarks. \n\n\n\nRegister    https://ctsbdc.uconn.edu/news_events/protecting-your-intellectual-property/
X-ALT-DESC;FMTTYPE=text/html:This workshop will cover the basic facts about trademarks. We will explore the different types of trademarks\, including names\, designs\, logos\, and trade dress. We will discuss strategies to perform a trademark search\, strengthen descriptive marks\, and layout the steps to file a trademark application and all fees associated with trademarks.&nbsp\;<br />\n<br />\n<strong><span style="text-decoration:none\;text-underline:none\;"><span style="color:windowtext\;">Register &gt\;&gt\; <a href="https://ctsbdc.uconn.edu/news_events/protecting-your-intellectual-property/">https://ctsbdc.uconn.edu/news_events/protecting-your-intellectual-property/</a></span></span></strong>
LOCATION:
UID:e.1932.22046
SEQUENCE:3
DTSTAMP:20260423T104856Z
URL:https://business.middlesexchamber.com/events/details/ctsbdc-22046
END:VEVENT

END:VCALENDAR
