BEGIN:VCALENDAR
VERSION:2.0
PRODID:-//ChamberMaster//Event Calendar 2.0//EN
METHOD:PUBLISH
X-PUBLISHED-TTL:P3D
REFRESH-INTERVAL:P3D
CALSCALE:GREGORIAN
BEGIN:VEVENT
DTSTART;VALUE=DATE:20230527
DTEND;VALUE=DATE:20230528
TRANSP:TRANSPARENT
X-MICROSOFT-CDO-ALLDAYEVENT:TRUE
SUMMARY:CTrides Drive Less CT Climate Challenge!
DESCRIPTION:The annual CTrides Drive Less Connecticut (DLC) Climate Challenge is coming up soon. This year we?re kicking off the Challenge on Earth Day (April 22) and it will run until May 31st. \n\nI?m inviting you to join us\, along with other employers around the state\, to encourage your employees to drive less by taking greener travel modes like transit and carpools to reduce Greenhouse Gases that cause Climate Change. This Challenge is part of a bigger state-sponsored effort to help Connecticut reach its emission reduction targets\, so your company?s participation is vital.\n\nWe know that many employers like you have taken action to be climate-conscious through the development of sustainability plans and ESG goals. The DLC Climate Challenge falls right in line with that goal and is a great way to motivate your employees to contribute to your efforts to make your workplace more sustainable while helping the state achieve its clean air goals.\n\n CTrides is here to help you encourage your employees to join in this year?s Climate Challenge by offering several free services\, including:\n\n\n	\n	Organize a ?Try-it-Day? to introduce employees to transit\, carpools\, or biking\n	\n	\n	Host an in-person workplace or virtual event\n	\n	\n	Provide easy-to-use information on nearby transit options\n	\n	\n	A Climate Challenge Emissions report of your employees' impact from their participation  \n	\n\n\nAnd employees who participate will also qualify for valuable gift card drawings.\n\nTo make things even easier to get started\, we?ve created a sample email that?s ready to send to your employees. Please contact me directly at marisa.kaplita@ctrides.com if you?d like the sample email or more information about the DLC Climate Challenge\, or you can visit CTrides.com/DLC/Organizations. We look forward to working with you on this important challenge!
X-ALT-DESC;FMTTYPE=text/html:<p><span style="color:rgb(34\, 34\, 34)\; font-family:arial\; font-size:11pt">The annual CTrides&nbsp\;</span><a href="http://ctrides.com/DLC" style="outline: 0px\; margin: 0px\; padding: 0px\; border: 0px\; vertical-align: baseline\; background: transparent\; text-decoration-line: none\; color: rgb(43\, 104\, 147)\;"><span style="color:rgb(17\, 85\, 204)\; font-family:arial\; font-size:11pt">Drive Less Connecticut (DLC) Climate Challenge</span></a><span style="color:rgb(34\, 34\, 34)\; font-family:arial\; font-size:11pt">&nbsp\;is coming up soon. This year we?re kicking off the Challenge on Earth Day (April 22) and it will run until May 31st.&nbsp\;</span></p>\n\n<p><span style="color:rgb(34\, 34\, 34)\; font-family:arial\; font-size:11pt">I?m inviting you to join us\, along with other employers around the state\, to encourage your employees to drive less by taking greener travel modes like transit and carpools to reduce Greenhouse Gases that cause Climate Change. This Challenge is part of a bigger state-sponsored effort to help Connecticut reach its emission reduction targets\, so your company?s participation is vital.</span></p>\n\n<p><span style="color:rgb(34\, 34\, 34)\; font-family:arial\; font-size:11pt">We know that many employers like you have taken action to be climate-conscious through the development of sustainability plans and ESG goals. The DLC Climate Challenge falls right in line with that goal and is a great way to motivate your employees to contribute to your efforts to make your workplace more sustainable while helping the state achieve its clean air goals.</span></p>\n\n<p><span style="color:rgb(34\, 34\, 34)\; font-family:arial\; font-size:11pt">&nbsp\;</span><span style="color:rgb(34\, 34\, 34)\; font-family:arial\; font-size:11pt">CT</span><em>rides</em><span style="color:rgb(34\, 34\, 34)\; font-family:arial\; font-size:11pt">&nbsp\;is here to help you encourage your employees to join in this year?s Climate Challenge by offering several free services\, including:</span></p>\n\n<ul>\n	<li>\n	<p><span style="font-size:11pt">Organize a ?Try-it-Day? to introduce employees to transit\, carpools\, or biking</span></p>\n	</li>\n	<li>\n	<p><span style="font-size:11pt">Host an in-person workplace or virtual event</span></p>\n	</li>\n	<li>\n	<p><span style="font-size:11pt">Provide easy-to-use information on nearby transit options</span></p>\n	</li>\n	<li>\n	<p><span style="font-size:11pt">A Climate Challenge Emissions report of your employees&#39\; impact from their participation&nbsp\;&nbsp\;</span></p>\n	</li>\n</ul>\n\n<p><span style="color:rgb(34\, 34\, 34)\; font-family:arial\; font-size:11pt">And employees who participate will also qualify for valuable gift card drawings.</span></p>\n\n<p><span style="color:rgb(34\, 34\, 34)\; font-family:arial\; font-size:11pt">To make things even easier to get started\, we?ve created a sample email that?s ready to send to your employees.&nbsp\;</span><span style="color:rgb(34\, 34\, 34)\; font-family:arial\; font-size:11pt">Please contact me directly at marisa.kaplita@ctrides.com if you?d like the sample email or more information about the DLC Climate Challenge\, or you can visit&nbsp\;</span><a href="http://ctrides.com/DLC/Organizations" style="outline: 0px\; margin: 0px\; padding: 0px\; border: 0px\; vertical-align: baseline\; background: transparent\; text-decoration-line: none\; color: rgb(43\, 104\, 147)\;"><span style="color:rgb(17\, 85\, 204)\; font-family:arial\; font-size:11pt">CT</span><em>rides</em><span style="color:rgb(17\, 85\, 204)\; font-family:arial\; font-size:11pt">.com/DLC/Organizations</span></a><span style="color:rgb(34\, 34\, 34)\; font-family:arial\; font-size:11pt">. We look forward to working with you on this important challenge!</span></p>\n
LOCATION:CTrides.com/DLC/Organizations
UID:e.1932.25351
SEQUENCE:3
DTSTAMP:20260420T152926Z
URL:https://business.middlesexchamber.com/events/details/ctrides-drive-less-ct-climate-challenge-05-27-2023-25351
END:VEVENT

END:VCALENDAR
