BEGIN:VCALENDAR
VERSION:2.0
PRODID:-//ChamberMaster//Event Calendar 2.0//EN
METHOD:PUBLISH
X-PUBLISHED-TTL:P3D
REFRESH-INTERVAL:P3D
CALSCALE:GREGORIAN
BEGIN:VEVENT
DTSTART:20220804T120000Z
DTEND:20220804T133000Z
X-MICROSOFT-CDO-ALLDAYEVENT:FALSE
SUMMARY:CTGLC Breakfast on Zoom
DESCRIPTION:In home or office\n\nhttps://us04web.zoom.us/j/8289436490\n\n\n\nPlease register at   www.ctglc.org\n\n Aug 4\,2022\n\n8:00-9:30 AM
X-ALT-DESC;FMTTYPE=text/html:<span style="font-size:16px\;"><span style="font-family:arial\;">In home or office<br />\n<a href="https://us04web.zoom.us/j/8289436490" style="font-family:Helvetica\;font-size:12px\;color:var(--accent-color)!important\;text-decoration-color:var(--accent-color)!important" target="_blank">https://us04web.zoom.us/j/8289436490<br />\n<br />\nPlease register at &nbsp\; www.ctglc.org<br />\n&nbsp\;Aug 4\,2022<br />\n8:00-9:30 AM</a></span></span>\n<div>&nbsp\;</div>\n\n<div>\n<div>&nbsp\;</div>\n\n<div>&nbsp\;</div>\n\n<div>&nbsp\;</div>\n\n<div>&nbsp\;</div>\n</div>\n\n<div>&nbsp\;</div>\n\n<div>&nbsp\;</div>\n<br />\n&nbsp\;
LOCATION:https://us04web.zoom.us/j/8289436490
UID:e.1932.23863
SEQUENCE:3
DTSTAMP:20260421T032812Z
URL:https://business.middlesexchamber.com/events/details/ctglc-breakfast-on-zoom-23863
END:VEVENT

END:VCALENDAR
