BEGIN:VCALENDAR
VERSION:2.0
PRODID:-//ChamberMaster//Event Calendar 2.0//EN
METHOD:PUBLISH
X-PUBLISHED-TTL:P3D
REFRESH-INTERVAL:P3D
CALSCALE:GREGORIAN
BEGIN:VEVENT
DTSTART:20220912T130000Z
DTEND:20220913T000000Z
X-MICROSOFT-CDO-ALLDAYEVENT:FALSE
SUMMARY:CT CHAPTER AUSA 11th ANNUAL CHARITY GOLF TOURNAMENT
DESCRIPTION:The CT Chapter\, Association of the United States Army (AUSA) - 501(c)(3)\,\n\nalong with the Military & Veterans Support Coalition (MVSC) - 501(c)(3)\n\nwill conduct their 11th Annual Charity Golf Tournament on September 12\, 2022 at Stanley Golf Course\, New Britain\, Connecticut.\n\n\n\nProceeds will be distributed to benefit Connecticut Veteran Homes and Shelters\n\n\n\nREGISTRATION AND SPONSORSHIP FORMS ??????:?\n\n\n\n \n\n2022 GOLF TOURNAMENT REGISTRATION.pdf - \n\nhttps://info.ausa.org/e/784783/LF-TOURNAMENT-REGISTRATION-pdf/gsvsn/809353621?h=zXwevjUkJVwsklrimy1p6KpDV6jT50JCav4W96Ud4Bo\n\n \n\n \n\n2022 GOLF TOURNAMENT SPONSORSHIPS.pdf - \n\nhttps://info.ausa.org/e/784783/LF-TOURNAMENT-SPONSORSHIPS-pdf/gsvsr/809353621?h=zXwevjUkJVwsklrimy1p6KpDV6jT50JCav4W96Ud4Bo
X-ALT-DESC;FMTTYPE=text/html:<span style="font-size:14px"><strong><span style="color:#3300CC"><span style="font-family:helvetica\,sans-serif">The CT Chapter\, Association of the United States Army (AUSA) - 501(c)(3)\,</span></span></strong><br />\n<strong><span style="color:#3300CC"><span style="font-family:helvetica\,sans-serif">along with the Military &amp\; Veterans Support Coalition (MVSC) - 501(c)(3)<br />\nwill conduct their 11th Annual Charity Golf Tournament on September 12\, 2022 at Stanley Golf Course\, New Britain\, Connecticut.</span></span></strong><br />\n<br />\n<strong><u><span style="color:#3300CC"><span style="font-family:helvetica\,sans-serif">Proceeds will be distributed to benefit&nbsp\;</span></span></u></strong><strong><u><span style="color:#3300CC"><span style="font-family:helvetica\,sans-serif">Connecticut Veteran Homes and Shelters</span></span></u></strong></span><br />\n<br />\n<strong><span style="color:#E74C3C"><span style="font-family:helvetica\,sans-serif">REGISTRATION AND SPONSORSHIP FORMS&nbsp\;??????:?</span></span></strong><br />\n<br />\n&nbsp\;<br />\n<strong><span style="color:#666666">2022 GOLF TOURNAMENT REGISTRATION.pdf -&nbsp\;</span></strong><br />\n<a href="https://info.ausa.org/e/784783/LF-TOURNAMENT-REGISTRATION-pdf/gsvsn/809353621?h=zXwevjUkJVwsklrimy1p6KpDV6jT50JCav4W96Ud4Bo" target="_blank"><strong><span style="color:#0070d2"><span style="font-size:10.5pt">https://info.ausa.org/e/784783/LF-TOURNAMENT-REGISTRATION-pdf/gsvsn/809353621?h=zXwevjUkJVwsklrimy1p6KpDV6jT50JCav4W96Ud4Bo</span></span></strong></a><br />\n&nbsp\;<br />\n&nbsp\;<br />\n<strong><span style="color:#666666">2022 GOLF TOURNAMENT SPONSORSHIPS.pdf -&nbsp\;</span></strong><br />\n<span style="font-family:arial\,sans-serif"><span style="font-size:12.0pt"><a href="https://info.ausa.org/e/784783/LF-TOURNAMENT-SPONSORSHIPS-pdf/gsvsr/809353621?h=zXwevjUkJVwsklrimy1p6KpDV6jT50JCav4W96Ud4Bo" target="_blank"><strong><span style="color:#0070D2"><span style="font-size:10.5pt">https://info.ausa.org/e/784783/LF-TOURNAMENT-SPONSORSHIPS-pdf/gsvsr/809353621?h=zXwevjUkJVwsklrimy1p6KpDV6jT50JCav4W96Ud4Bo</span></span></strong></a></span></span><br />\n&nbsp\;
LOCATION:STANLEY GOLF COURSE 245 Hartford Road New Britain CT 06053
UID:e.1932.23879
SEQUENCE:3
DTSTAMP:20260421T005020Z
URL:https://business.middlesexchamber.com/events/details/ct-chapter-ausa-11th-annual-charity-golf-tournament-23879
END:VEVENT

END:VCALENDAR
