BEGIN:VCALENDAR
VERSION:2.0
PRODID:-//ChamberMaster//Event Calendar 2.0//EN
METHOD:PUBLISH
X-PUBLISHED-TTL:P3D
REFRESH-INTERVAL:P3D
CALSCALE:GREGORIAN
BEGIN:VEVENT
DTSTART:20220914T120000Z
DTEND:20220914T210000Z
X-MICROSOFT-CDO-ALLDAYEVENT:FALSE
SUMMARY:CT Cannabis Conference & Expo
DESCRIPTION:Buy Tickets Here!\n\n\nThe Hartford Business Journal and New Haven Biz are proud to present the inaugural "The Business Of Cannabis: CT Cannabis Conference & Expo".\n\n \n\nWith cannabis legalized for adult use in Connecticut\, the impact will reach beyond the businesses and entrepreneurs moving into this $1 billion market. All industries\, employers and employees in the state will be affected by the rules and regulations regarding cannabis. The Hartford Business Journal and New Haven Biz\, the state's leading business publications that are on the forefront of this emerging industry will host the Inaugural "CT Cannabis Conference & Expo: The Business Of Cannabis" on September 14th 2022. Our leading cannabis events and award winning weekly e-newsletter\, CT Cannabis Insider\, position us as the premier multimedia company in Connecticut and the authority on this growing industry.\n\n \n\nConference Features\n\nSpeakers | Panel Discussions | Breakfast | Lunch | Exhibitor Showcase | Networking Reception
X-ALT-DESC;FMTTYPE=text/html:<h2><a href="https://www.eventbrite.com/e/ct-cannabis-conference-expo-tickets-321286826547"><strong>Buy Tickets Here!</strong></a></h2>\n<br />\nThe Hartford Business Journal and New Haven Biz are proud to present the inaugural &quot\;The Business Of Cannabis: CT Cannabis Conference &amp\; Expo&rdquo\;.<br />\n&nbsp\;<br />\nWith cannabis legalized for adult use in Connecticut\, the impact will reach beyond the businesses and entrepreneurs moving into this $1 billion market. All industries\, employers and employees in the state will be affected by the rules and regulations regarding cannabis. The Hartford Business Journal and New Haven Biz\, the state&rsquo\;s leading business publications that are on the forefront of this emerging industry will host the Inaugural &ldquo\;CT Cannabis Conference &amp\; Expo: The Business Of Cannabis&rdquo\; on September 14th 2022. Our leading cannabis events and award winning weekly e-newsletter\, CT Cannabis Insider\, position us as the premier multimedia company in Connecticut and the authority on this growing industry.<br />\n&nbsp\;<br />\n<u>Conference Features</u><br />\nSpeakers | Panel Discussions | Breakfast | Lunch | Exhibitor Showcase | Networking Reception
LOCATION:Aqua Turf Club 556 Mullberry Street Plantsville\, CT
UID:e.1932.23651
SEQUENCE:3
DTSTAMP:20260421T020745Z
URL:https://business.middlesexchamber.com/events/details/ct-cannabis-conference-expo-23651
END:VEVENT

END:VCALENDAR
