BEGIN:VCALENDAR
VERSION:2.0
PRODID:-//ChamberMaster//Event Calendar 2.0//EN
METHOD:PUBLISH
X-PUBLISHED-TTL:P3D
REFRESH-INTERVAL:P3D
CALSCALE:GREGORIAN
BEGIN:VEVENT
DTSTART:20240222T230000Z
DTEND:20240223T013000Z
X-MICROSOFT-CDO-ALLDAYEVENT:FALSE
SUMMARY:CROOROADS4CRIST at St. Sebastian Church
DESCRIPTION:Calling all young adults 18-39 years old! Are you seeking authentic Catholic community with other young adults your age? Are you looking for a place to deepen your relationship with Jesus and increase your understanding of the Catholic faith? Are looking to make some new friendships centered in Christ?\n\n\n\nIf you answered yes to any of these questions\, join us at the newest chapter of Crossroads 4 Christ every Thursday evening at St. Sebastian's Church in Middletown! \n    \n\nWeekly meetings of fellowship and faith formation will begin at 6pm in the church basement followed by a holy hour with Confessions available beginning at 7pm.\n\n\n\nFor more information\, check out our website at www.crossroads4christ.org or send us an email at info@crossroadsforchrist.org\n\n    \n\nWe hope to see you at a C4C night in Middletown soon!
X-ALT-DESC;FMTTYPE=text/html:<span style="font-size:16px"><span style="font-family:arial"><span dir="ltr">Calling all young adults 18-39 years old! Are you seeking&nbsp\;authentic Catholic community with other young adults your&nbsp\;</span><span dir="ltr">age? Are you looking for a place to deepen your relationship&nbsp\;</span><span dir="ltr">with Jesus and increase your understanding of the Catholic&nbsp\;</span><span dir="ltr">faith? Are looking to make some new friendships centered in&nbsp\;</span><span dir="ltr">Christ?<br />\n<br />\nIf you answered yes to any of these questions\, join us&nbsp\;</span><span dir="ltr">at the newest chapter of Crossroads 4 Christ every </span><strong><span dir="ltr">Thursday&nbsp\;evening at St. Sebastian&rsquo\;s Church in Middletown! </span></strong></span></span>\n<div><span style="font-size:16px"><span style="font-family:arial">&nbsp\;&nbsp\;&nbsp\;<strong>&nbsp\;<br />\n<span dir="ltr">Weekly meetings of fellowship and faith formation will&nbsp\;</span></strong><span dir="ltr"><strong>begin at 6pm in the church basement followed by a holy&nbsp\;hour with Confessions available beginning at 7pm.</strong></span><br />\n<br />\n<span dir="ltr">For more information\, check out our website at <strong>www.</strong></span><span dir="ltr"><strong>crossroads4christ.org</strong> </span><span dir="ltr">or send us an email at&nbsp\;<strong>info@crossroadsforchrist.org</strong></span><br />\n&nbsp\;&nbsp\;&nbsp\;&nbsp\;</span></span>\n<div>\n<div><span style="font-size:16px"><span style="font-family:arial"><strong><span dir="ltr">We hope to see you at a C4C night in Mid</span><span dir="ltr">dletown soon!</span></strong></span></span></div>\n</div>\n</div>\n
LOCATION:St. Sebastian Church 155 Washington Street Middletown\, CT
UID:e.1932.28843
SEQUENCE:3
DTSTAMP:20260420T024004Z
URL:https://business.middlesexchamber.com/events/details/crooroads4crist-at-st-sebastian-church-02-22-2024-28843
END:VEVENT

END:VCALENDAR
