BEGIN:VCALENDAR
VERSION:2.0
PRODID:-//ChamberMaster//Event Calendar 2.0//EN
METHOD:PUBLISH
X-PUBLISHED-TTL:P3D
REFRESH-INTERVAL:P3D
CALSCALE:GREGORIAN
BEGIN:VEVENT
DTSTART:20220713T223000Z
DTEND:20220714T003000Z
X-MICROSOFT-CDO-ALLDAYEVENT:FALSE
SUMMARY:Cromwell Summer Movies in the Park
DESCRIPTION:CROMWELL SUMMER MOVIES IN THE PARK -\n\nWednesday\, JULY 13\n\n\n\nShowing Raya and the Last Dragon.\n\n\n\nSquare Peg Pizzeria Food Truck and\n\nBlue Chip Creamery Ice Cream Truck will be on site.
X-ALT-DESC;FMTTYPE=text/html:<div style="text-align: center\;"><span style="font-size:18px\;"><span style="font-family:tahoma\;"><strong>CROMWELL SUMMER MOVIES IN THE PARK -<br />\nWednesday\, JULY 13</strong><br />\n<br />\nShowing <em><strong>Raya and the Last Dragon.</strong></em><br />\n<br />\n<em><strong>Square Peg Pizzeria Food Truck</strong></em> and<br />\n<em><strong>Blue Chip Creamery Ice Cream Truck</strong></em> will be on site.</span></span></div>\n
LOCATION:Football Field at Pierson Park West Street next to Cromwell Police Dept. (5 West Street) Cromwell\, CT
UID:e.1932.23688
SEQUENCE:3
DTSTAMP:20260421T034036Z
URL:https://business.middlesexchamber.com/events/details/cromwell-summer-movies-in-the-park-07-13-2022-23688
END:VEVENT

END:VCALENDAR
