BEGIN:VCALENDAR
VERSION:2.0
PRODID:-//ChamberMaster//Event Calendar 2.0//EN
METHOD:PUBLISH
X-PUBLISHED-TTL:P3D
REFRESH-INTERVAL:P3D
CALSCALE:GREGORIAN
BEGIN:VEVENT
DTSTART:20220622T223000Z
DTEND:20220623T003000Z
X-MICROSOFT-CDO-ALLDAYEVENT:FALSE
SUMMARY:Cromwell Summer Concert Series
DESCRIPTION:CROMWELL SUMMER CONCERT SERIES -\n\nWednesday\, June 22\n\n\n\nFeaturing The Downtown 6 Band\; playing Dance\, Rock and pop music.\n\n\n\nSquare Peg Pizzaria Food Truck and\n\nBlue Chip Creamery Ice Cream Truck will be on site.
X-ALT-DESC;FMTTYPE=text/html:<div style="text-align: center\;"><span style="font-size:18px\;"><span style="font-family:tahoma\;"><strong>CROMWELL SUMMER CONCERT SERIES -<br />\nWednesday\, June 22</strong><br />\n<br />\nFeaturing <em><strong>The Downtown 6 Band</strong></em>\; playing Dance\, Rock and pop music.<br />\n<br />\n<em><strong>Square Peg Pizzaria Food Truck</strong></em> and<br />\n<em><strong>Blue Chip Creamery Ice Cream Truck</strong></em> will be on site.</span></span></div>\n
LOCATION:Riverport Park 1 River Road Cromwell\, CT
UID:e.1932.23691
SEQUENCE:3
DTSTAMP:20260421T044512Z
URL:https://business.middlesexchamber.com/events/details/cromwell-summer-concert-series-23691
END:VEVENT

END:VCALENDAR
