BEGIN:VCALENDAR
VERSION:2.0
PRODID:-//ChamberMaster//Event Calendar 2.0//EN
METHOD:PUBLISH
X-PUBLISHED-TTL:P3D
REFRESH-INTERVAL:P3D
CALSCALE:GREGORIAN
BEGIN:VEVENT
DTSTART:20220817T223000Z
DTEND:20220818T003000Z
X-MICROSOFT-CDO-ALLDAYEVENT:FALSE
SUMMARY:Cromwell Summer Concert Series
DESCRIPTION:CROMWELL SUMMER CONCERT SERIES -\n\nWednesday\, AUGUST 17\n\n\n\nFeaturing The American Honey Band\; playing Country\, Pop\, and Rock.\n\n\n\nScatz Holy Smokers BBQ Food Truck and\n\nBlue Chip Creamery Ice Cream Truck will be on site.
X-ALT-DESC;FMTTYPE=text/html:<div style="text-align: center\;"><span style="font-size:18px\;"><span style="font-family:tahoma\;"><strong>CROMWELL SUMMER CONCERT SERIES -<br />\nWednesday\, AUGUST 17</strong><br />\n<br />\nFeaturing <em><strong>The American Honey Band</strong></em>\; playing Country\, Pop\, and Rock.<br />\n<br />\n<em><strong>Scatz Holy Smokers BBQ Food Truck</strong></em> and<br />\n<em><strong>Blue Chip Creamery Ice Cream Truck</strong></em> will be on site.</span></span></div>\n
LOCATION:Riverport Park 1 River Road Cromwell\, CT
UID:e.1932.23695
SEQUENCE:3
DTSTAMP:20260421T020836Z
URL:https://business.middlesexchamber.com/events/details/cromwell-summer-concert-series-08-17-2022-23695
END:VEVENT

END:VCALENDAR
