BEGIN:VCALENDAR
VERSION:2.0
PRODID:-//ChamberMaster//Event Calendar 2.0//EN
METHOD:PUBLISH
X-PUBLISHED-TTL:P3D
REFRESH-INTERVAL:P3D
CALSCALE:GREGORIAN
BEGIN:VEVENT
DTSTART:20220803T223000Z
DTEND:20220804T003000Z
X-MICROSOFT-CDO-ALLDAYEVENT:FALSE
SUMMARY:Cromwell Summer Concert Series
DESCRIPTION:CROMWELL SUMMER CONCERT SERIES -\n\nWednesday\, AUGUST 3\n\n\n\nFeaturing The Raise Your Hands Band\, Bon Jovi Tribute Band\n\n\n\nSquare Peg Pizzeria Food Truck and\n\nBlue Chip Creamery Ice Cream Truck will be on site.
X-ALT-DESC;FMTTYPE=text/html:<div style="text-align: center\;"><span style="font-size:18px\;"><span style="font-family:tahoma\;"><strong>CROMWELL SUMMER CONCERT SERIES -<br />\nWednesday\, AUGUST 3</strong><br />\n<br />\nFeaturing <em><strong>The Raise Your Hands Band\, Bon Jovi Tribute Band</strong></em><br />\n<br />\n<em><strong>Square Peg Pizzeria Food Truck</strong></em> and<br />\n<em><strong>Blue Chip Creamery Ice Cream Truck</strong></em> will be on site.</span></span></div>\n
LOCATION:Riverport Park 1 River Road Cromwell\, CT
UID:e.1932.23694
SEQUENCE:3
DTSTAMP:20260421T033332Z
URL:https://business.middlesexchamber.com/events/details/cromwell-summer-concert-series-08-03-2022-23694
END:VEVENT

END:VCALENDAR
