BEGIN:VCALENDAR
VERSION:2.0
PRODID:-//ChamberMaster//Event Calendar 2.0//EN
METHOD:PUBLISH
X-PUBLISHED-TTL:P3D
REFRESH-INTERVAL:P3D
CALSCALE:GREGORIAN
BEGIN:VEVENT
DTSTART:20220720T223000Z
DTEND:20220721T003000Z
X-MICROSOFT-CDO-ALLDAYEVENT:FALSE
SUMMARY:Cromwell Summer Concert Series
DESCRIPTION:CROMWELL SUMMER CONCERT SERIES -\n\nWednesday\, JULY 20\n\n\n\nFeaturing Eight to the Bar\; playing Swing\, Boogie-Woogie\, and Motown.\n\n\n\nRelish This Food Truck and\n\nBlue Chip Creamery Ice Cream Truck will be on site.
X-ALT-DESC;FMTTYPE=text/html:<div style="text-align: center\;"><span style="font-size:18px\;"><span style="font-family:tahoma\;"><strong>CROMWELL SUMMER CONCERT SERIES -<br />\nWednesday\, JULY 20</strong><br />\n<br />\nFeaturing <em><strong>Eight to the Bar</strong></em>\; playing Swing\, Boogie-Woogie\, and Motown.<br />\n<br />\n<em><strong>Relish This Food Truck</strong></em> and<br />\n<em><strong>Blue Chip Creamery Ice Cream Truck</strong></em> will be on site.</span></span></div>\n
LOCATION:Riverport Park 1 River Road. Cromwell\, CT
UID:e.1932.23693
SEQUENCE:3
DTSTAMP:20260421T044527Z
URL:https://business.middlesexchamber.com/events/details/cromwell-summer-concert-series-07-20-2022-23693
END:VEVENT

END:VCALENDAR
