BEGIN:VCALENDAR
VERSION:2.0
PRODID:-//ChamberMaster//Event Calendar 2.0//EN
METHOD:PUBLISH
X-PUBLISHED-TTL:P3D
REFRESH-INTERVAL:P3D
CALSCALE:GREGORIAN
BEGIN:VEVENT
DTSTART:20220706T223000Z
DTEND:20220707T003000Z
X-MICROSOFT-CDO-ALLDAYEVENT:FALSE
SUMMARY:Cromwell Summer Concert Series
DESCRIPTION:CROMWELL SUMMER CONCERT SERIES -\n\nWednesday\, JULY 6\n\n\n\nFeaturing The Coyote River Band\; playing modern country\, rock and pop.\n\n\n\nSkyscraper Sandwich Food Truck and\n\nBlue Chip Creamery Ice Cream Truck will be on site
X-ALT-DESC;FMTTYPE=text/html:<div style="text-align: center\;"><span style="font-size:18px\;"><span style="font-family:tahoma\;"><strong>CROMWELL SUMMER CONCERT SERIES -<br />\nWednesday\, JULY 6</strong><br />\n<br />\nFeaturing <em><strong>The Coyote River Band</strong></em>\; playing modern country\, rock and pop.<br />\n<br />\n<strong>S</strong><em><strong>kyscraper Sandwich Food Truck</strong></em> and<br />\n<em><strong>Blue Chip Creamery Ice Cream Truck</strong></em> will be on site</span></span></div>\n
LOCATION:Riverport Park 1 River Road. Cromwell\, CT
UID:e.1932.23692
SEQUENCE:3
DTSTAMP:20260421T044611Z
URL:https://business.middlesexchamber.com/events/details/cromwell-summer-concert-series-07-06-2022-23692
END:VEVENT

END:VCALENDAR
