BEGIN:VCALENDAR
VERSION:2.0
PRODID:-//ChamberMaster//Event Calendar 2.0//EN
METHOD:PUBLISH
X-PUBLISHED-TTL:P3D
REFRESH-INTERVAL:P3D
CALSCALE:GREGORIAN
BEGIN:VEVENT
DTSTART:20180807T120000Z
DTEND:20180807T130000Z
X-MICROSOFT-CDO-ALLDAYEVENT:FALSE
SUMMARY:Cromwell Division
DESCRIPTION:Program: Local and Upcoming Events\n\n\n\nThis meeting is hosted by Donnelly's Irish Pub\n\n\n\nPLEASE NOTE: Due to conflicting meetings in August\, Cromwell Division meeting will be held on the 1st TUESDAY\, instead of the 2nd Thursday!\n\n \n\nRODNEY BITGOOD\, CHAIRMAN\n\nInvites you to\n\n \n\nTHE CROMWELL DIVISION MEETING\n\n \n\nTUESDAY\, AUGUST 7\, 2018\n\nAt\n\nDONNELLY'S IRISH PUB\n\n1 Wall Street\, Cromwell\n\n \n\n7:45 a.m.   9:00 a.m.\n\n \n\nAt the end of this meeting\, there will be a Ribbon-Cutting / Grand Opening for Donnelly's Irish Pub\, which is a new member of Middlesex Chamber and opened for business recently!  Please make every effort to attend this meeting and welcome Sean\, the General Manager\, into the business community!\n\n \n\nTown updates will be given by:\n\nTHE MAYOR\n\nAnd the following Town Departments\n\n Town Manager\n\n Police Dept.\n\n Fire Dept.\n\n Planning Office\n\n Town Clerk's Office\n\n Assessor's Office\n\n Public Works\n\n Health Dept.\n\n Recreation Dept. \n\n Board of Education\n\n \n\n Mattabassett District Update\n\n Legislative Update\n\n Middlesex Chamber Update on special events and activities\n\n A complimentary continental breakfast will be available\, courtesy of Donnelly's Irish Pub!\n\n Network with other members of the Cromwell business community and surrounding areas!
X-ALT-DESC;FMTTYPE=text/html:<p><br />\nProgram: Local and Upcoming Events<br />\n<br />\nThis meeting is hosted by Donnelly&#39\;s Irish Pub<br />\n<br />\n<strong><span style="font-family:arial\,sans-serif\;"><span style="font-size:12.0pt\;">PLEASE NOTE: </span></span></strong><span style="font-family:arial\,sans-serif\;"><span style="font-size:12.0pt\;">Due to conflicting meetings in August\, Cromwell Division meeting will be held on the 1st TUESDAY\, instead of the 2nd Thursday!</span></span><br />\n&nbsp\;<br />\n<strong><span style="font-family:arial\,sans-serif\;"><span style="font-size:12.0pt\;">RODNEY BITGOOD\, CHAIRMAN</span></span></strong><br />\n<span style="font-family:arial\,sans-serif\;"><span style="font-size:12.0pt\;">Invites you to</span></span><br />\n&nbsp\;<br />\n<strong><span style="font-family:arial\,sans-serif\;"><span style="font-size:12.0pt\;">THE CROMWELL DIVISION MEETING</span></span></strong><br />\n&nbsp\;<br />\n<strong><span style="font-family:arial\,sans-serif\;"><span style="font-size:12.0pt\;">TUESDAY\, AUGUST 7\, 2018</span></span></strong><br />\n<span style="font-family:arial\,sans-serif\;"><span style="font-size:12.0pt\;">At</span></span><br />\n<strong><span style="font-family:arial\,sans-serif\;"><span style="font-size:12.0pt\;">DONNELLY&rsquo\;S IRISH PUB</span></span></strong><br />\n<span style="font-family:arial\,sans-serif\;"><span style="font-size:12.0pt\;">1 Wall Street\, Cromwell</span></span><br />\n&nbsp\;<br />\n<span style="font-family:arial\,sans-serif\;"><span style="font-size:12.0pt\;">7:45 a.m. &mdash\; 9:00 a.m.</span></span><br />\n&nbsp\;<br />\n<span style="font-family:arial\,sans-serif\;"><span style="font-size:12.0pt\;">At the end of this meeting\, there will be a <strong>Ribbon-Cutting / Grand Opening</strong> for <strong>Donnelly&rsquo\;s Irish Pub</strong>\, which is a <strong>new member </strong>of Middlesex Chamber and opened for business recently!&nbsp\; Please make every effort to attend this meeting and welcome <strong>Sean\, the General Manager</strong>\, into the business community!</span></span><br />\n&nbsp\;<br />\n<span style="font-family:arial\,sans-serif\;"><span style="font-size:12.0pt\;">Town updates will be given by:</span></span><br />\n<strong><span style="font-family:arial\,sans-serif\;"><span style="font-size:12.0pt\;">THE MAYOR</span></span></strong><br />\n<span style="font-family:arial\,sans-serif\;"><span style="font-size:12.0pt\;">And the following Town Departments</span></span><br />\n<strong><span style="font-family:arial\,sans-serif\;"><span style="font-size:12.0pt\;">&#9702\;Town Manager</span></span></strong><br />\n<strong><span style="font-family:arial\,sans-serif\;"><span style="font-size:12.0pt\;">&#9702\;Police Dept.</span></span></strong><br />\n<strong><span style="font-family:arial\,sans-serif\;"><span style="font-size:12.0pt\;">&#9702\;Fire Dept.</span></span></strong><br />\n<strong><span style="font-family:arial\,sans-serif\;"><span style="font-size:12.0pt\;">&#9702\;Planning Office</span></span></strong><br />\n<strong><span style="font-family:arial\,sans-serif\;"><span style="font-size:12.0pt\;">&#9702\;Town Clerk&rsquo\;s Office</span></span></strong><br />\n<strong><span style="font-family:arial\,sans-serif\;"><span style="font-size:12.0pt\;">&#9702\;Assessor&rsquo\;s Office</span></span></strong><br />\n<strong><span style="font-family:arial\,sans-serif\;"><span style="font-size:12.0pt\;">&#9702\;Public Works</span></span></strong><br />\n<strong><span style="font-family:arial\,sans-serif\;"><span style="font-size:12.0pt\;">&#9702\;Health Dept.</span></span></strong><br />\n<strong><span style="font-family:arial\,sans-serif\;"><span style="font-size:12.0pt\;">&#9702\;Recreation Dept. </span></span></strong><br />\n<strong><span style="font-family:arial\,sans-serif\;"><span style="font-size:12.0pt\;">&#9702\;Board of Education</span></span></strong><br />\n&nbsp\;<br />\n<span style="font-family:arial\,sans-serif\;"><span style="font-size:12.0pt\;">&bull\;<strong>Mattabassett District Update</strong></span></span><br />\n<strong><span style="font-family:arial\,sans-serif\;"><span style="font-size:12.0pt\;">&bull\;Legislative Update</span></span></strong><br />\n<strong><span style="font-family:arial\,sans-serif\;"><span style="font-size:12.0pt\;">&bull\;Middlesex Chamber Update on special events and activities</span></span></strong><br />\n<span style="font-family:arial\,sans-serif\;"><span style="font-size:12.0pt\;">&bull\;<strong>A complimentary continental breakfast will be available</strong>\, courtesy of <strong>Donnelly&rsquo\;s Irish Pub!</strong></span></span><br />\n<span style="font-family:arial\,sans-serif\;"><span style="font-size:12.0pt\;">&bull\;Network with other members of the Cromwell business community and surrounding areas!</span></span><br />\n&nbsp\;<br />\n&nbsp\;</p>\n
LOCATION:Donnelly's Irish Pub 1 Wall Street Cromwell\, CT
UID:e.1932.7477
SEQUENCE:3
DTSTAMP:20260421T083451Z
URL:https://business.middlesexchamber.com/events/details/cromwell-division-7477
END:VEVENT

END:VCALENDAR
