BEGIN:VCALENDAR
VERSION:2.0
PRODID:-//ChamberMaster//Event Calendar 2.0//EN
METHOD:PUBLISH
X-PUBLISHED-TTL:P3D
REFRESH-INTERVAL:P3D
CALSCALE:GREGORIAN
BEGIN:VEVENT
DTSTART:20171109T130000Z
DTEND:20171109T140000Z
X-MICROSOFT-CDO-ALLDAYEVENT:FALSE
SUMMARY:Cromwell Division
DESCRIPTION:Town updates will be given by:\n\nTHE MAYOR\n\n\n\nAnd the following Town Departments\n\n Town Manager\n\n Police Dept.\n\n Fire Dept.\n\n Planning Office\n\n Town Clerk's Office\n\n Assessor's Office\n\n Public Works\n\n Health Dept.\n\n Recreation Dept. \n\n Board of Education\n\n \n\n Mattabassett District Update\n\n Legislative Update\n\n Middlesex Chamber Update on special events and activities\n\n\n\n A complimentary continental breakfast will be available\, courtesy of Chicago Sam's!\n\n\n\n Network with other members of the Cromwell business community and surrounding areas!
X-ALT-DESC;FMTTYPE=text/html:<br />\n<span style="font-family:arial\,sans-serif\;"><span style="font-size:12.0pt\;">Town updates will be given by:</span></span><br />\n<strong><span style="font-family:arial\,sans-serif\;"><span style="font-size:12.0pt\;">THE MAYOR</span></span></strong><br />\n<br />\n<span style="font-family:arial\,sans-serif\;"><span style="font-size:12.0pt\;">And the following Town Departments</span></span><br />\n<strong><span style="font-family:arial\,sans-serif\;"><span style="font-size:12.0pt\;">&#9702\;Town Manager</span></span></strong><br />\n<strong><span style="font-family:arial\,sans-serif\;"><span style="font-size:12.0pt\;">&#9702\;Police Dept.</span></span></strong><br />\n<strong><span style="font-family:arial\,sans-serif\;"><span style="font-size:12.0pt\;">&#9702\;Fire Dept.</span></span></strong><br />\n<strong><span style="font-family:arial\,sans-serif\;"><span style="font-size:12.0pt\;">&#9702\;Planning Office</span></span></strong><br />\n<strong><span style="font-family:arial\,sans-serif\;"><span style="font-size:12.0pt\;">&#9702\;Town Clerk&rsquo\;s Office</span></span></strong><br />\n<strong><span style="font-family:arial\,sans-serif\;"><span style="font-size:12.0pt\;">&#9702\;Assessor&rsquo\;s Office</span></span></strong><br />\n<strong><span style="font-family:arial\,sans-serif\;"><span style="font-size:12.0pt\;">&#9702\;Public Works</span></span></strong><br />\n<strong><span style="font-family:arial\,sans-serif\;"><span style="font-size:12.0pt\;">&#9702\;Health Dept.</span></span></strong><br />\n<strong><span style="font-family:arial\,sans-serif\;"><span style="font-size:12.0pt\;">&#9702\;Recreation Dept. </span></span></strong><br />\n<strong><span style="font-family:arial\,sans-serif\;"><span style="font-size:12.0pt\;">&#9702\;Board of Education</span></span></strong><br />\n&nbsp\;<br />\n<span style="font-family:arial\,sans-serif\;"><span style="font-size:12.0pt\;">&bull\;<strong>Mattabassett District Update</strong></span></span><br />\n<strong><span style="font-family:arial\,sans-serif\;"><span style="font-size:12.0pt\;">&bull\;Legislative Update</span></span></strong><br />\n<strong><span style="font-family:arial\,sans-serif\;"><span style="font-size:12.0pt\;">&bull\;Middlesex Chamber Update on special events and activities</span></span></strong><br />\n<br />\n<span style="font-family:arial\,sans-serif\;"><span style="font-size:12.0pt\;">&bull\;<strong>A complimentary continental breakfast will be available</strong>\, courtesy of <strong>Chicago Sam&rsquo\;s!</strong></span></span><br />\n<br />\n<span style="font-family:arial\,sans-serif\;"><span style="font-size:12.0pt\;">&bull\;Network with other members of the Cromwell business community and surrounding areas!</span></span>
LOCATION:Chicago Sam's Sports Bar & Grille 51-14 Shunpike Road Cromwell\, CT
UID:e.1932.4777
SEQUENCE:3
DTSTAMP:20260423T014138Z
URL:https://business.middlesexchamber.com/events/details/cromwell-division-4777
END:VEVENT

END:VCALENDAR
