BEGIN:VCALENDAR
VERSION:2.0
PRODID:-//ChamberMaster//Event Calendar 2.0//EN
METHOD:PUBLISH
X-PUBLISHED-TTL:P3D
REFRESH-INTERVAL:P3D
CALSCALE:GREGORIAN
BEGIN:VEVENT
DTSTART:20171012T120000Z
DTEND:20171012T130000Z
X-MICROSOFT-CDO-ALLDAYEVENT:FALSE
SUMMARY:Cromwell Division
DESCRIPTION:RODNEY BITGOOD\, CHAIRMAN\n\nInvites you to\n\nTHE CROMWELL DIVISION MEETING \n\nTHURSDAY\, OCTOBER 12\, 2017\n\nAt\n\nCROMWELL TOWN HALL\n\n(In the Arch Room)\n\n41 West Street\, Cromwell\n\n \n\nHosted by\n\nAdelbrook Behavioral & Developmental Services\n\n \n\n7:45 a.m.   9:00 a.m.\n\n \n\nThe candidates for the upcoming election have been invited to present a brief overview of their platforms.  There will be a question & answer period as time allows! \n\nThe Candidates for Mayor are: \n\n\n	Enzo Faienza (R)   Incumbent\n	Kenneth Smith (D)   Challenger\n\n\nHear Updates from Town officials!\n\n\nFind out the latest information about the Chamber!\n\n\n\nA complimentary continental breakfast\, courtesy of Adelbrook! \n\n\n\nNetwork with other members of the Cromwell business community and surrounding areas
X-ALT-DESC;FMTTYPE=text/html:<div style="text-align: center\;"><strong><span style="font-family:arial\,sans-serif\;"><span style="font-size:12.0pt\;">RODNEY BITGOOD\, CHAIRMAN</span></span></strong><br />\n<span style="font-family:arial\,sans-serif\;"><span style="font-size:12.0pt\;"><strong>Invites you to</strong><br />\n<strong>THE CROMWELL DIVISION MEETING </strong><br />\n<strong>THURSDAY\, OCTOBER 12\, 2017</strong><br />\nAt<br />\n<strong>CROMWELL TOWN HALL</strong><br />\n<strong>(In the Arch Room)</strong></span></span><br />\n<strong><span style="font-family:arial\,sans-serif\;"><span style="font-size:12.0pt\;">41 West Street\, Cromwell</span></span></strong><br />\n<span style="font-family:arial\,sans-serif\;"><span style="font-size:12.0pt\;">&nbsp\;<br />\n<strong>Hosted by</strong><br />\n<strong>Adelbrook Behavioral &amp\; Developmental Services</strong><br />\n&nbsp\;<br />\n<strong>7:45 a.m. &mdash\; 9:00 a.m.</strong></span></span><br />\n&nbsp\;</div>\n\n<div><span style="font-size: 12pt\; font-family: arial\, sans-serif\;">The candidates for the upcoming election have been invited to present a brief overview of their platforms.&nbsp\; There will be a question &amp\; answer period as time allows!</span><span style="font-size: 12pt\; font-family: arial\, sans-serif\;"><span style="font-size:12.0pt\;">&nbsp\;</span></span></div>\n\n<div><span style="font-family:arial\,sans-serif\;"><span style="font-size:12.0pt\;">The <strong>Candidates for Mayor</strong> are: </span></span></div>\n\n<ul>\n	<li><strong><span style="font-family:arial\,sans-serif\;"><span style="font-size:12.0pt\;">Enzo Faienza</span></span></strong><span style="font-family:arial\,sans-serif\;"><span style="font-size:12.0pt\;"> (R) &ndash\; Incumbent</span></span></li>\n	<li><strong><span style="font-family:arial\,sans-serif\;"><span style="font-size:12.0pt\;">Kenneth Smith</span></span></strong><span style="font-family:arial\,sans-serif\;"><span style="font-size:12.0pt\;"> (D) &ndash\; Challenger</span></span></li>\n</ul>\n\n<div><span style="font-size: 12pt\; font-family: arial\, sans-serif\;">Hear Updates from Town officials!</span></div>\n<br />\n<span style="font-family:arial\,sans-serif\;"><span style="font-size:12.0pt\;">Find out the latest information about the Chamber!</span></span><br />\n<br />\n<span style="font-family:arial\,sans-serif\;"><span style="font-size:12.0pt\;">A complimentary<strong> continental breakfast</strong>\, courtesy of <strong>Adelbrook!&nbsp\;</strong></span></span>\n\n<div><br />\n<span style="font-family:arial\,sans-serif\;"><span style="font-size:12.0pt\;">Network with other members of the Cromwell business community and surrounding areas</span></span></div>\n
LOCATION:Cromwell Town Hall West Street Cromwell\, CT
UID:e.1932.4704
SEQUENCE:3
DTSTAMP:20260424T083611Z
URL:https://business.middlesexchamber.com/events/details/cromwell-division-4704
END:VEVENT

END:VCALENDAR
