BEGIN:VCALENDAR
VERSION:2.0
PRODID:-//ChamberMaster//Event Calendar 2.0//EN
METHOD:PUBLISH
X-PUBLISHED-TTL:P3D
REFRESH-INTERVAL:P3D
CALSCALE:GREGORIAN
BEGIN:VEVENT
DTSTART:20260115T130000Z
DTEND:20260115T140000Z
X-MICROSOFT-CDO-ALLDAYEVENT:FALSE
SUMMARY:Cromwell Division
DESCRIPTION:The Chamber has eight geographically based divisions which meet on a monthly basis throughout Middlesex County. These divisions focus on local economic development issues and each meeting features an update from local municipal officials. \n\nCromwell Division occurs on the second Thursday of the month (unless otherwise noted) at different locations. This division does not meet in July. In March\, August and November\, our monthly meetings are held during the evening and feature appetizers and networking\, with the goal of creating new connections. These events are called Division After Dark.\n\nCARA SCIANNA\, CHAIRWOMAN\n\nInvites you to \n\nTHE CROMWELL DIVISION MEETING\n\nTHURSDAY\, JANUARY 15\, 2026\n\nAT\n\nCOLES ROAD FIREHOUSE\n\n105 Coles Road\, Cromwell\n\n \n\nAnd Hosted by\n\nLIBERTY BANK\n\n7:30 a.m.   9:00 a.m.  \n\nJoin your fellow Chamber members as we welcome the Middlesex United Way for an informative session on their services to our region and the newly updated ALICE report for Connecticut\, greater Middlesex County\, and the tri-town area. \n\nFollowing the United Way\, the Middlesex County Revitalization Commission (MCRC) will share updates on the 2026 Business Operating Grants application round. Middlesex County for-profit businesses (open at least two years\, fewer than 50 employees\, with income less than $8 million) are eligible to apply for grants up to $25\,000.  Attend the meeting to learn more about ways to apply the grant funding to your business.  \n\nTown updates will be given by the following Departments as time allows:\n\n\n	Mayor\n	Town Manager\n	Planning Office\n	Police Dept.\n	Fire Dept.\n	Public Works Dept.\n	Town Clerk's Office\n	Recreation Dept.\n	Board of Education\n\n\n\n	Mattabassett District Update\n	Cromwell Children's Coalition Update\n	Middlesex Chamber Update on upcoming meetings & events\n\n\n\n	A complimentary continental breakfast will be available\, courtesy of Liberty Bank from 7:30   8:00 a.m. & Networking with Members!  Meeting begins promptly at 8:00 a.m. and ends by 9:00 a.m.
X-ALT-DESC;FMTTYPE=text/html:<p font-size:="" style="color: rgb(51\, 51\, 51)\; font-family: sans-serif\, Arial\, Verdana\, " text-align:="" trebuchet="">The Chamber has eight geographically based divisions which meet on a monthly basis throughout Middlesex County. These divisions focus on local economic development issues and each meeting features an update from local municipal officials.&nbsp\;</p>\n\n<p font-size:="" style="color: rgb(51\, 51\, 51)\; font-family: sans-serif\, Arial\, Verdana\, " text-align:="" trebuchet="">Cromwell Division occurs on the second&nbsp\;Thursday of the month (unless otherwise noted) at different locations. This division does not meet in July.&nbsp\;In March\, August and November\, our monthly&nbsp\;meetings are held during the evening and feature appetizers and networking\, with the goal of creating new connections. These events are called Division After Dark.</p>\n\n<p font-size:="" style="color: rgb(51\, 51\, 51)\; text-align: center\;" text-align:="" trebuchet=""><span style="font-size: 14px\;"><span style="font-family: arial\;"><strong>CARA SCIANNA\, CHAIRWOMAN</strong><br />\nInvites you to&nbsp\;<br />\n<strong>THE CROMWELL DIVISION MEETING</strong><br />\n<strong>THURSDAY\, JANUARY 15\, 2026</strong><br />\n<strong>AT</strong><br />\n<strong>COLES ROAD FIREHOUSE</strong><br />\n<strong>105 Coles Road\, Cromwell</strong><br />\n&nbsp\;<br />\n<strong>And Hosted by</strong><br />\n<strong>LIBERTY BANK</strong><br />\n<strong>7:30 a.m. &mdash\; 9:00 a.m.</strong>&nbsp\;&nbsp\;</span></span></p>\n\n<p font-size:="" style="color: rgb(51\, 51\, 51)\; font-family: sans-serif\, Arial\, Verdana\, " trebuchet=""><span style="font-size: 14px\;"><span style="font-family: arial\;"><span style="color: black\;">Join your fellow Chamber members as we welcome the&nbsp\;<strong><em>Middlesex United Way</em></strong>&nbsp\;for an informative session on their services to our region and the newly updated ALICE report for Connecticut\, greater Middlesex County\, and the tri-town area.</span>&nbsp\;</span></span></p>\n\n<p font-size:="" style="color: rgb(51\, 51\, 51)\; font-family: sans-serif\, Arial\, Verdana\, " trebuchet=""><span style="font-size: 14px\;"><span style="font-family: arial\;"><span style="color: black\;">Following the United Way\, the&nbsp\;<strong><em>Middlesex County Revitalization Commission (MCRC</em></strong>) will share updates on the 2026 Business Operating Grants application round. Middlesex County for-profit businesses (open at least two years\, fewer than 50 employees\, with income less than $8 million) are eligible to apply for grants up to $25\,000.&nbsp\; Attend the meeting to learn more about ways to apply the grant funding to your business.&nbsp\;</span>&nbsp\;</span></span></p>\n\n<p font-size:="" style="color: rgb(51\, 51\, 51)\; font-family: sans-serif\, Arial\, Verdana\, " trebuchet=""><span style="font-size: 14px\;"><span style="font-family: arial\;">Town updates will be given by the following Departments as time allows:</span></span></p>\n\n<ul font-size:="" style="padding: 0px 40px\; color: rgb(51\, 51\, 51)\; font-family: sans-serif\, Arial\, Verdana\, " trebuchet="">\n	<li><span style="font-size: 14px\;"><span style="font-family: arial\;"><strong>Mayor</strong></span></span></li>\n	<li><span style="font-size: 14px\;"><span style="font-family: arial\;"><strong>Town Manager</strong></span></span></li>\n	<li><span style="font-size: 14px\;"><span style="font-family: arial\;"><strong>Planning Office</strong></span></span></li>\n	<li><span style="font-size: 14px\;"><span style="font-family: arial\;"><strong>Police Dept.</strong></span></span></li>\n	<li><span style="font-size: 14px\;"><span style="font-family: arial\;"><strong>Fire Dept.</strong></span></span></li>\n	<li><span style="font-size: 14px\;"><span style="font-family: arial\;"><strong>Public Works Dept.</strong></span></span></li>\n	<li><span style="font-size: 14px\;"><span style="font-family: arial\;"><strong>Town Clerk&rsquo\;s Office</strong></span></span></li>\n	<li><span style="font-size: 14px\;"><span style="font-family: arial\;"><strong>Recreation Dept.</strong></span></span></li>\n	<li><span style="font-size: 14px\;"><span style="font-family: arial\;"><strong>Board of Education</strong></span></span></li>\n</ul>\n\n<ul font-size:="" style="padding: 0px 40px\; color: rgb(51\, 51\, 51)\; font-family: sans-serif\, Arial\, Verdana\, " trebuchet="">\n	<li><span style="font-size: 14px\;"><span style="font-family: arial\;"><strong>Mattabassett District Update</strong></span></span></li>\n	<li><span style="font-size: 14px\;"><span style="font-family: arial\;"><strong>Cromwell Children&rsquo\;s Coalition Update</strong></span></span></li>\n	<li><span style="font-size: 14px\;"><span style="font-family: arial\;"><strong>Middlesex Chamber Update&nbsp\;</strong>on upcoming meetings &amp\; events</span></span></li>\n</ul>\n\n<ul font-size:="" list-style-type:="" style="padding: 0px 40px\; color: rgb(51\, 51\, 51)\; font-family: sans-serif\, Arial\, Verdana\, " trebuchet="">\n	<li><span style="font-size: 14px\;"><span style="font-family: arial\;"><strong>A complimentary continental breakfast will be available</strong>\, courtesy of&nbsp\;<strong><em>Liberty Bank&nbsp\;</em></strong><em>f</em>rom&nbsp\;<strong>7:30 &ndash\; 8:00 a.m. &amp\; Networking with Members!&nbsp\; Meeting&nbsp\;</strong>begins promptly at&nbsp\;<strong>8:00 a.m. and ends by 9:00 a.m</strong>.</span></span></li>\n</ul>\n
LOCATION:
UID:e.1932.34550
SEQUENCE:3
DTSTAMP:20260424T181257Z
URL:https://business.middlesexchamber.com/events/details/cromwell-division-34550
END:VEVENT

END:VCALENDAR
