BEGIN:VCALENDAR
VERSION:2.0
PRODID:-//ChamberMaster//Event Calendar 2.0//EN
METHOD:PUBLISH
X-PUBLISHED-TTL:P3D
REFRESH-INTERVAL:P3D
CALSCALE:GREGORIAN
BEGIN:VEVENT
DTSTART:20211112T130000Z
DTEND:20211112T140000Z
X-MICROSOFT-CDO-ALLDAYEVENT:FALSE
SUMMARY:Cromwell Division
DESCRIPTION:MASKS ARE REQUIRED AT ADELBROOK EXCEPT WHILE EATING\n\n\n\nTown updates will be given by:\n\nTHE MAYOR\n\nAnd the following Town Departments\n\n	Town Manager\n	Health Dept.\n	Police Dept.\n	Fire Dept.\n	Planning Office\n	Town Clerk's Office\n	Assessor's Office\n	Public Works\n	Recreation Dept. \n	Board of Education\n\n\n\n	Mattabassett District Update\n	Cromwell Children's Coalition Update\n	Middlesex Chamber Update on upcoming meetings & events
X-ALT-DESC;FMTTYPE=text/html:&nbsp\;<br />\n<strong><em><span style="border:solid windowtext 2.25pt\;padding:0in\;"><span style="color:red\;"><span style="font-family:arial\,sans-serif\;">MASKS ARE REQUIRED AT ADELBROOK EXCEPT WHILE EATING</span></span></span></em></strong><br />\n<br />\n<span style="font-family:arial\,sans-serif\;">Town updates will be given by:</span><br />\n<strong><span style="font-family:arial\,sans-serif\;">THE MAYOR</span></strong><br />\n<span style="font-family:arial\,sans-serif\;">And the following Town Departments</span>\n<ul>\n	<li><strong><span style="font-family:arial\,sans-serif\;">Town Manager</span></strong></li>\n	<li><strong><span style="font-family:arial\,sans-serif\;">Health Dept.</span></strong></li>\n	<li><strong><span style="font-family:arial\,sans-serif\;">Police Dept.</span></strong></li>\n	<li><strong><span style="font-family:arial\,sans-serif\;">Fire Dept.</span></strong></li>\n	<li><strong><span style="font-family:arial\,sans-serif\;">Planning Office</span></strong></li>\n	<li><strong><span style="font-family:arial\,sans-serif\;">Town Clerk&rsquo\;s Office</span></strong></li>\n	<li><strong><span style="font-family:arial\,sans-serif\;">Assessor&rsquo\;s Office</span></strong></li>\n	<li><strong><span style="font-family:arial\,sans-serif\;">Public Works</span></strong></li>\n	<li><strong><span style="font-family:arial\,sans-serif\;">Recreation Dept. </span></strong></li>\n	<li><strong><span style="font-family:arial\,sans-serif\;">Board of Education</span></strong></li>\n</ul>\n\n<ul>\n	<li><strong><span style="font-family:arial\,sans-serif\;">Mattabassett District Update</span></strong></li>\n	<li><strong><span style="font-family:arial\,sans-serif\;">Cromwell Children&rsquo\;s Coalition Update</span></strong></li>\n	<li><strong><span style="font-family:arial\,sans-serif\;">Middlesex Chamber Update </span></strong><span style="font-family:arial\,sans-serif\;">on upcoming meetings &amp\; events </span></li>\n</ul>\n
LOCATION:Adelbrook Behavioral & Developmental Services 60 Hicksville Road Cromwell\, CT
UID:e.1932.20448
SEQUENCE:3
DTSTAMP:20260423T082355Z
URL:https://business.middlesexchamber.com/events/details/cromwell-division-11-11-2021-20448
END:VEVENT

END:VCALENDAR
