BEGIN:VCALENDAR
VERSION:2.0
PRODID:-//ChamberMaster//Event Calendar 2.0//EN
METHOD:PUBLISH
X-PUBLISHED-TTL:P3D
REFRESH-INTERVAL:P3D
CALSCALE:GREGORIAN
BEGIN:VEVENT
DTSTART:20251009T120000Z
DTEND:20251009T130000Z
X-MICROSOFT-CDO-ALLDAYEVENT:FALSE
SUMMARY:Cromwell Division
DESCRIPTION:The Chamber has nine geographically based divisions which meet on a monthly basis throughout Middlesex County. These divisions focus on local economic development issues and each meeting features an update from local municipal officials.\n\n\n\nTwice a year\, in November and March\, our monthly morning division meetings are held during the evening and feature appetizers and networking\, with the goal of creating new connections.\n\n\n\nThe Cromwell Division meee occurs on the second Thursday of the month at different locations. This division does not meet in the Summer months of July and August.\n\n\nCARA SCIANNA\, CHAIRWOMAN\n\nInvites you to \n\nTHE CROMWELL DIVISION MEETING\n\nTHURSDAY\, OCTOBER 9\, 2025 \n\nAT\n\nCOVENANT LIVING OF CROMWELL\n\n101 West Street\n\n7:15 a.m.   9:00 a.m. \n\n \nThere will be a Tour of the new Health Center at Covenant Living at 7:30 a.m.\, so those who want to participate should plan to arrive around 7:15 a.m.  The Health Center opens at 8:00 a.m.\, so that is why the Tour is before the meeting.\n\n\n\nTown updates will be given by the following Departments\n\n\n	Mayor\n	Town Manager\n	Planning Office\n	Police Dept.\n	Fire Dept.\n	Public Works Dept.\n	Town Clerk's Office\n	Recreation Dept. \n	Board of Education\n\n\n\n	Mattabassett District Update\n	Cromwell Children's Coalition Update\n	Cromwell Creative District Update\n	Middlesex Chamber Update on upcoming meetings & events\n\n\n\n	A complimentary continental breakfast will be available\, courtesy of Covenant Living from 7:30   8:00 a.m. & Networking with Members!  Meeting begins promptly at 8:00 a.m. and ends by 9:00 a.m.
X-ALT-DESC;FMTTYPE=text/html:The Chamber has nine geographically based divisions which meet on a monthly basis throughout Middlesex County. These divisions focus on local economic development issues and each meeting features an update from local municipal officials.<br />\n<br />\nTwice a year\, in November and March\, our monthly morning division meetings are held during the evening and feature appetizers and networking\, with the goal of creating new connections.<br />\n<br />\nThe Cromwell Division meee occurs on the second Thursday of the month at different locations. This division does not meet in the Summer months of July and August.\n<div style="text-align: center\;"><br />\n<span style="font-size:14px\;"><span style="font-family:arial\;"><strong>CARA SCIANNA\, CHAIRWOMAN</strong><br />\nInvites you to&nbsp\;<br />\n<strong>THE CROMWELL DIVISION MEETING</strong><br />\n<strong>THURSDAY\, OCTOBER 9\, 2025</strong>&nbsp\;<br />\n<strong>AT</strong><br />\n<strong>COVENANT LIVING OF CROMWELL</strong><br />\n<strong>101 West Street</strong><br />\n<strong>7:15 a.m. &mdash\; 9:00 a.m.</strong>&nbsp\;<br />\n&nbsp\;</span></span>\n<div style="text-align: left\;"><span style="font-size:14px\;"><span style="font-family:arial\;"><em>There will be a Tour of the new Health Center at Covenant Living at 7:30 a.m.\, so those who want to participate should plan to arrive around 7:15 a.m. &nbsp\;The Health Center opens at 8:00 a.m.\, so that is why the Tour is before the meeting.</em><br />\n<br />\nTown updates will be given by the following Departments</span></span></div>\n\n<ul>\n	<li style="text-align: left\;"><span style="font-size:14px\;"><span style="font-family:arial\;"><strong>Mayor</strong></span></span></li>\n	<li style="text-align: left\;"><span style="font-size:14px\;"><span style="font-family:arial\;"><strong>Town Manager</strong></span></span></li>\n	<li style="text-align: left\;"><span style="font-size:14px\;"><span style="font-family:arial\;"><strong>Planning Office</strong></span></span></li>\n	<li style="text-align: left\;"><span style="font-size:14px\;"><span style="font-family:arial\;"><strong>Police Dept.</strong></span></span></li>\n	<li style="text-align: left\;"><span style="font-size:14px\;"><span style="font-family:arial\;"><strong>Fire Dept.</strong></span></span></li>\n	<li style="text-align: left\;"><span style="font-size:14px\;"><span style="font-family:arial\;"><strong>Public Works Dept.</strong></span></span></li>\n	<li style="text-align: left\;"><span style="font-size:14px\;"><span style="font-family:arial\;"><strong>Town Clerk&rsquo\;s Office</strong></span></span></li>\n	<li style="text-align: left\;"><span style="font-size:14px\;"><span style="font-family:arial\;"><strong>Recreation Dept. </strong></span></span></li>\n	<li style="text-align: left\;"><span style="font-size:14px\;"><span style="font-family:arial\;"><strong>Board of Education</strong></span></span></li>\n</ul>\n\n<ul>\n	<li style="text-align: left\;"><span style="font-size:14px\;"><span style="font-family:arial\;"><strong>Mattabassett District Update</strong></span></span></li>\n	<li style="text-align: left\;"><span style="font-size:14px\;"><span style="font-family:arial\;"><strong>Cromwell Children&rsquo\;s Coalition Update</strong></span></span></li>\n	<li style="text-align: left\;"><span style="font-size:14px\;"><span style="font-family:arial\;"><strong>Cromwell Creative District Update</strong></span></span></li>\n	<li style="text-align: left\;"><span style="font-size:14px\;"><span style="font-family:arial\;"><strong>Middlesex Chamber Update </strong>on upcoming meetings &amp\; events</span></span></li>\n</ul>\n\n<ul style="list-style-type:circle\;">\n	<li style="text-align: left\;"><span style="font-size:14px\;"><span style="font-family:arial\;"><strong>A complimentary continental breakfast will be available</strong>\, courtesy of <strong><em>Covenant Living </em></strong><em>f</em>rom <strong>7:30 &ndash\; 8:00 a.m. &amp\; Networking with Members!&nbsp\; Meeting </strong>begins promptly at <strong>8:00 a.m. and ends by 9:00 a.m</strong>.</span></span></li>\n</ul>\n</div>\n
LOCATION:
UID:e.1932.30331
SEQUENCE:3
DTSTAMP:20260424T212806Z
URL:https://business.middlesexchamber.com/events/details/cromwell-division-10-09-2025-30331
END:VEVENT

END:VCALENDAR
