BEGIN:VCALENDAR
VERSION:2.0
PRODID:-//ChamberMaster//Event Calendar 2.0//EN
METHOD:PUBLISH
X-PUBLISHED-TTL:P3D
REFRESH-INTERVAL:P3D
CALSCALE:GREGORIAN
BEGIN:VEVENT
DTSTART:20250911T120000Z
DTEND:20250911T130000Z
X-MICROSOFT-CDO-ALLDAYEVENT:FALSE
SUMMARY:Cromwell Division
DESCRIPTION:The Chamber has nine geographically based divisions which meet on a monthly basis throughout Middlesex County. These divisions focus on local economic development issues and each meeting features an update from local municipal officials.\n\n\n\nTwice a year\, in November and March\, our monthly morning division meetings are held during the evening and feature appetizers and networking\, with the goal of creating new connections.\n\n\n\nThe Cromwell Division occurs on the second Thursday of the month at different locations. This division does not meet in July.\n \n\nCARA SCIANNA\, CHAIRWOMAN\n\nInvites you to \n\nTHE CROMWELL DIVISION MEETING\n\nTHURSDAY\, SEPTEMBER 11\, 2025 \n\nAT\n\nUKRAINIAN AMERICAN CULTURAL CENTER\n\n5 COMMERCE DRIVE\, CROMWELL\n\n7:30 a.m.   9:00 a.m. \n\n \n\nTHIS MEETING IS CO-HOSTED BY THE COMPUTER COMPANY\n\nAND THE UKRAINIAN AMERICAN CULTURAL CENTER \n\n \nLisa Kidder\, the Strategic Communications Manager for MyCTSavings\, will visit to provide updates on the program\, including the recent amendments resulting from the 2025 legislative session.\n\n \n\nThe MyCTSavings Program is a state-sponsored retirement savings plan for businesses with five or more full- or part-time employees. It offers an alternative to private retirement plans and is free for businesses since employee contributions are made through payroll deductions.\n\nTown updates will be given by the following Departments:\n\n\n	Mayor\n	Town Manager\n	Planning Office\n	Police Dept.\n	Fire Dept.\n	Public Works Dept.\n	Town Clerk's Office\n	Recreation Dept. \n	Board of Education\n\n\n\n	Mattabassett District Update\n	Cromwell Children's Coalition Update\n	Cromwell Creative District Update\n	Middlesex Chamber Update on upcoming meetings & events\n\n\n\n	A complimentary continental breakfast will be available\, courtesy of The Computer Company & The Ukrainian American Cultural Center from 7:30   8:00 a.m. & Networking with Members!  Meeting begins promptly at 8:00 a.m. and ends by 9:00 a.m.
X-ALT-DESC;FMTTYPE=text/html:The Chamber has nine geographically based divisions which meet on a monthly basis throughout Middlesex County. These divisions focus on local economic development issues and each meeting features an update from local municipal officials.<br />\n<br />\nTwice a year\, in November and March\, our monthly morning division meetings are held during the evening and feature appetizers and networking\, with the goal of creating new connections.<br />\n<br />\nThe Cromwell Division occurs on the second Thursday of the month at different locations. This division does not meet in July.\n<div style="text-align: right\;">&nbsp\;</div>\n\n<div style="text-align: center\;"><strong><span style="font-family:arial\,sans-serif\;">CARA SCIANNA\, CHAIRWOMAN</span></strong><br />\n<span style="font-family:arial\,sans-serif\;">Invites you to&nbsp\;<br />\n<strong><span style="font-family:arial\,sans-serif\;">THE CROMWELL DIVISION MEETING</span></strong><br />\n<strong><span style="font-family:arial\,sans-serif\;">THURSDAY\, SEPTEMBER 11\, 2025</span></strong>&nbsp\;</span><br />\n<strong><span style="font-family:arial\,sans-serif\;">AT</span></strong><br />\n<strong><span style="font-family:arial\,sans-serif\;">UKRAINIAN AMERICAN CULTURAL CENTER</span></strong><br />\n<strong><span style="font-family:arial\,sans-serif\;">5 COMMERCE DRIVE\, CROMWELL</span></strong><br />\n<strong><span style="font-family:arial\,sans-serif\;">7:30 a.m. &mdash\; 9:00 a.m.</span></strong>&nbsp\;<br />\n&nbsp\;<br />\n<span style="font-family:arial\,sans-serif\;">THIS MEETING IS CO-HOSTED BY <strong>THE COMPUTER COMPANY</strong></span><br />\n<strong><span style="font-family:arial\,sans-serif\;">AND THE UKRAINIAN AMERICAN CULTURAL CENTER&nbsp\;</span></strong><br />\n&nbsp\;</div>\n<strong><em><span style="font-family:arial\,sans-serif\;">Lisa Kidder\,</span></em></strong><em><span style="font-family:arial\,sans-serif\;"> the <strong>Strategic Communications Manager for MyCTSavings</strong>\, will visit to provide updates on the program\, including the recent amendments resulting from the 2025 legislative session.</span></em><br />\n&nbsp\;<br />\n<em><span style="font-family:arial\,sans-serif\;">The MyCTSavings Program is a state-sponsored retirement savings plan for businesses with five or more full- or part-time employees. It offers an alternative to private retirement plans and is free for businesses since employee contributions are made through payroll deductions.</span></em><br />\n<span style="font-family:arial\,sans-serif\;">Town updates will be given by the following Departments:</span>\n\n<ul>\n	<li><strong><span style="font-family:arial\,sans-serif\;">Mayor</span></strong></li>\n	<li><strong><span style="font-family:arial\,sans-serif\;">Town Manager</span></strong></li>\n	<li><strong><span style="font-family:arial\,sans-serif\;">Planning Office</span></strong></li>\n	<li><strong><span style="font-family:arial\,sans-serif\;">Police Dept.</span></strong></li>\n	<li><strong><span style="font-family:arial\,sans-serif\;">Fire Dept.</span></strong></li>\n	<li><strong><span style="font-family:arial\,sans-serif\;">Public Works Dept.</span></strong></li>\n	<li><strong><span style="font-family:arial\,sans-serif\;">Town Clerk&rsquo\;s Office</span></strong></li>\n	<li><strong><span style="font-family:arial\,sans-serif\;">Recreation Dept. </span></strong></li>\n	<li><strong><span style="font-family:arial\,sans-serif\;">Board of Education</span></strong></li>\n</ul>\n\n<ul>\n	<li><strong><span style="font-family:arial\,sans-serif\;">Mattabassett District Update</span></strong></li>\n	<li><strong><span style="font-family:arial\,sans-serif\;">Cromwell Children&rsquo\;s Coalition Update</span></strong></li>\n	<li><strong><span style="font-family:arial\,sans-serif\;">Cromwell Creative District Update</span></strong></li>\n	<li><strong><span style="font-family:arial\,sans-serif\;">Middlesex Chamber Update </span></strong><span style="font-family:arial\,sans-serif\;">on upcoming meetings &amp\; events</span></li>\n</ul>\n\n<ul style="list-style-type:circle\;">\n	<li><strong><span style="font-family:arial\,sans-serif\;">A complimentary continental breakfast will be available</span></strong><span style="font-family:arial\,sans-serif\;">\, courtesy of <strong><em>The Computer Company &amp\; The Ukrainian American Cultural Center </em></strong><em>f</em>rom <strong>7:30 &ndash\; 8:00 a.m. &amp\; Networking with Members!&nbsp\; Meeting </strong>begins promptly at </span><strong>8:00 a.m. and ends by 9:00 a.m</strong>.</li>\n</ul>\n
LOCATION:Ukrainian American Cultural Center 5 Commerce Drive Cromwell\, CT
UID:e.1932.30330
SEQUENCE:3
DTSTAMP:20260424T224240Z
URL:https://business.middlesexchamber.com/events/details/cromwell-division-09-11-2025-30330
END:VEVENT

END:VCALENDAR
