BEGIN:VCALENDAR
VERSION:2.0
PRODID:-//ChamberMaster//Event Calendar 2.0//EN
METHOD:PUBLISH
X-PUBLISHED-TTL:P3D
REFRESH-INTERVAL:P3D
CALSCALE:GREGORIAN
BEGIN:VEVENT
DTSTART:20230413T120000Z
DTEND:20230413T130000Z
X-MICROSOFT-CDO-ALLDAYEVENT:FALSE
SUMMARY:Cromwell Division
DESCRIPTION:RODNEY BITGOOD\, CHAIRMAN\n\nInvites you to \n\nTHE CROMWELL DIVISION MEETING\n\nTHURSDAY\, APRIL 13\, 2023\n\nHosted by \n\nGAYLORD SPECIALTY PHYSICAL THERAPY\n\n50 Berlin Road (Route 372)\, Cromwell\n\n7:30 a.m.   9:00 a.m.  \nTown updates will be given by the following Departments\n\n\n	Mayor\n	Town Manager\n	Health Dept.\n	Police Dept.\n	Fire Dept.\n	Planning Office\n	Public Works Dept.\n	Town Clerk's Office\n	Assessor's Office\n	Recreation Dept. \n	Board of Education\n\n\n\n	Mattabassett District Update\n	Cromwell Children's Coalition Update\n	Cromwell Creative District Update\n	Middlesex Chamber Update on upcoming meetings & events\n\n\n\n	A complimentary continental breakfast will be available\, courtesy of Gaylord Specialty Physical Therapy from 7:30   8:00 a.m. & Networking with Members
X-ALT-DESC;FMTTYPE=text/html:<div style="text-align: center\;"><strong><span style="font-family:arial\,sans-serif\;">RODNEY BITGOOD\, CHAIRMAN</span></strong><br />\n<span style="font-family:arial\,sans-serif\;">Invites you to&nbsp\;<br />\n<strong><span style="font-family:arial\,sans-serif\;">THE CROMWELL DIVISION MEETING</span></strong><br />\n<strong><span style="font-family:arial\,sans-serif\;">THURSDAY\, APRIL 13\, 2023</span></strong></span><br />\n<strong><span style="font-family:arial\,sans-serif\;">Hosted by</span></strong>&nbsp\;<br />\n<span style="font-family:arial\,sans-serif\;"><strong><span style="font-family:arial\,sans-serif\;">GAYLORD SPECIALTY PHYSICAL THERAPY</span></strong></span><br />\n<strong><span style="font-family:arial\,sans-serif\;">50 Berlin Road (Route 372)\, Cromwell</span></strong><br />\n<strong><span style="font-family:arial\,sans-serif\;">7:30 a.m. &mdash\; 9:00 a.m.</span></strong>&nbsp\;&nbsp\;</div>\n<span style="font-family:arial\,sans-serif\;">Town updates will be given by the following Departments</span>\n\n<ul>\n	<li><strong><span style="font-family:arial\,sans-serif\;">Mayor</span></strong></li>\n	<li><strong><span style="font-family:arial\,sans-serif\;">Town Manager</span></strong></li>\n	<li><strong><span style="font-family:arial\,sans-serif\;">Health Dept.</span></strong></li>\n	<li><strong><span style="font-family:arial\,sans-serif\;">Police Dept.</span></strong></li>\n	<li><strong><span style="font-family:arial\,sans-serif\;">Fire Dept.</span></strong></li>\n	<li><strong><span style="font-family:arial\,sans-serif\;">Planning Office</span></strong></li>\n	<li><strong><span style="font-family:arial\,sans-serif\;">Public Works Dept.</span></strong></li>\n	<li><strong><span style="font-family:arial\,sans-serif\;">Town Clerk&rsquo\;s Office</span></strong></li>\n	<li><strong><span style="font-family:arial\,sans-serif\;">Assessor&rsquo\;s Office</span></strong></li>\n	<li><strong><span style="font-family:arial\,sans-serif\;">Recreation Dept. </span></strong></li>\n	<li><strong><span style="font-family:arial\,sans-serif\;">Board of Education</span></strong></li>\n</ul>\n\n<ul>\n	<li><strong><span style="font-family:arial\,sans-serif\;">Mattabassett District Update</span></strong></li>\n	<li><strong><span style="font-family:arial\,sans-serif\;">Cromwell Children&rsquo\;s Coalition Update</span></strong></li>\n	<li><strong><span style="font-family:arial\,sans-serif\;">Cromwell Creative District Update</span></strong></li>\n	<li><strong><span style="font-family:arial\,sans-serif\;">Middlesex Chamber Update </span></strong><span style="font-family:arial\,sans-serif\;">on upcoming meetings &amp\; events</span></li>\n</ul>\n\n<ul>\n	<li><strong><span style="font-family:arial\,sans-serif\;">A complimentary continental breakfast will be available</span></strong><span style="font-family:arial\,sans-serif\;">\, courtesy of <strong><em>Gaylord Specialty Physical Therapy </em></strong>from <strong>7:30 &ndash\; 8:00 a.m. &amp\; Networking with Members</strong></span></li>\n</ul>\n
LOCATION:Gaylord Specialty Physical Therapy 50 Berlin Road Cromwell\, CT
UID:e.1932.24458
SEQUENCE:3
DTSTAMP:20260420T192610Z
URL:https://business.middlesexchamber.com/events/details/cromwell-division-04-13-2023-24458
END:VEVENT

END:VCALENDAR
