BEGIN:VCALENDAR
VERSION:2.0
PRODID:-//ChamberMaster//Event Calendar 2.0//EN
METHOD:PUBLISH
X-PUBLISHED-TTL:P3D
REFRESH-INTERVAL:P3D
CALSCALE:GREGORIAN
BEGIN:VEVENT
DTSTART:20231202T170000Z
DTEND:20231202T210000Z
X-MICROSOFT-CDO-ALLDAYEVENT:FALSE
SUMMARY:Cromwell Automotive Holiday Open House Christmas Party
DESCRIPTION:Celebrate the Season with Cromwell Automotive & Friends\, including the Garage Guys and Cromwell Childrens Coalition...while providing a Toy for Children through the Marine Corps Reserve's TOYS FOR TOTS!  EVERYONE IS INVITED!\n\n\n\nPlease bring a NEW UNWRAPPED TOY for Entry!\n\n\n\nPHOTOS will be taken with SANTA & MARINES!\n\n\n\nREFRESHMENTS & FOOD will be served!\n\n\n\nQuestions?  Contact Cromwell Automotive at 860-613-2355
X-ALT-DESC;FMTTYPE=text/html:<span style="font-size:18px\;"><span style="font-family:arial\;"><strong>Celebrate the Season with Cromwell Automotive &amp\; Friends\, including the Garage Guys and Cromwell Childrens Coalition...while providing a Toy for Children through the Marine Corps Reserve&#39\;s TOYS FOR TOTS!&nbsp\; EVERYONE IS INVITED!</strong><br />\n<br />\nPlease bring a <strong>NEW UNWRAPPED TOY</strong>&nbsp\;for Entry!<br />\n<br />\n<strong>PHOTOS</strong> will be taken with <strong>SANTA &amp\; MARINES!</strong><br />\n<br />\n<strong>REFRESHMENTS &amp\; FOOD</strong> will be served!<br />\n<br />\nQuestions?&nbsp\; Contact Cromwell Automotive at 860-613-2355</span></span>
LOCATION:Cromwell Automotive 263 Main Street Cromwell\, CT
UID:e.1932.28015
SEQUENCE:3
DTSTAMP:20260420T054655Z
URL:https://business.middlesexchamber.com/events/details/cromwell-automotive-holiday-open-house-christmas-party-28015
END:VEVENT

END:VCALENDAR
