BEGIN:VCALENDAR
VERSION:2.0
PRODID:-//ChamberMaster//Event Calendar 2.0//EN
METHOD:PUBLISH
X-PUBLISHED-TTL:P3D
REFRESH-INTERVAL:P3D
CALSCALE:GREGORIAN
BEGIN:VEVENT
DTSTART:20251209T223000Z
DTEND:20251209T233000Z
X-MICROSOFT-CDO-ALLDAYEVENT:FALSE
SUMMARY:Credit Basics and Beyond
DESCRIPTION:Gain a clear and practical understanding of how credit works!\n\n\n\nLearn what credit scores are\, how they're calculated\, and why they matter.\n\n\n\nExplore how to read a credit report\, build and maintain good credit\, manage debt wisely\, and avoid common financial mistakes. \n\n\n\nPerfect for anyone looking to strengthen their financial knowledge and make confident credit decisions.\n\n\n\nRegister today!
X-ALT-DESC;FMTTYPE=text/html:<span style="font-size:20px\;"><span style="color: rgb(0\, 0\, 0)\; font-family: calibri\;">Gain a clear and practical understanding of how credit works!<br />\n<br />\nLearn what credit scores are\, how they&rsquo\;re calculated\, and why they matter.<br />\n<br />\nExplore how to read a credit report\, build and maintain good credit\, manage debt wisely\, and avoid common financial mistakes. </span><br />\n<br />\n<em>Perfect for anyone looking to strengthen their financial knowledge and make confident credit decisions.</em><br />\n<br />\n<a href="https://cvent.me/n1b2Vv"><strong>Register today!</strong></a></span>
LOCATION:Chelsea Groton Bank Sprague Branch 156 Willimantic Road Sprague\, CT
UID:e.1932.34588
SEQUENCE:3
DTSTAMP:20260424T192044Z
URL:https://business.middlesexchamber.com/events/details/credit-basics-and-beyond-12-09-2025-34588
END:VEVENT

END:VCALENDAR
