BEGIN:VCALENDAR
VERSION:2.0
PRODID:-//ChamberMaster//Event Calendar 2.0//EN
METHOD:PUBLISH
X-PUBLISHED-TTL:P3D
REFRESH-INTERVAL:P3D
CALSCALE:GREGORIAN
BEGIN:VEVENT
DTSTART:20171013T133000Z
DTEND:20171013T183000Z
X-MICROSOFT-CDO-ALLDAYEVENT:FALSE
SUMMARY:CPR/First Aid/AED Training
DESCRIPTION:The primary purpose of this course is to help participants recognize and respond appropriately to cardiac\, breathing\, and first aid emergencies. The sections in this program teaches participants the knowledge and skills needed to give immediate care to an injured or ill person and to decide whether advanced medical care is needed. This program follows the American Red Cross curriculum and is taught by a certified instructor. Participants who successfully complete this course will receive an American Red Cross certificate.
X-ALT-DESC;FMTTYPE=text/html:The primary purpose of this course is to help participants recognize and respond appropriately to cardiac\, breathing\, and first aid emergencies. The sections in this program teaches participants the knowledge and skills needed to give immediate care to an injured or ill person and to decide whether advanced medical care is needed. This program follows the American Red Cross curriculum and is taught by a certified instructor. Participants who successfully complete this course will receive an American Red Cross certificate.
LOCATION:The Connection 100 Roscommon Drive\, Suite 203 Middletown
UID:e.1932.4683
SEQUENCE:3
DTSTAMP:20260423T222829Z
URL:https://business.middlesexchamber.com/events/details/cpr-first-aid-aed-training-10-13-2017-4683
END:VEVENT

END:VCALENDAR
