BEGIN:VCALENDAR
VERSION:2.0
PRODID:-//ChamberMaster//Event Calendar 2.0//EN
METHOD:PUBLISH
X-PUBLISHED-TTL:P3D
REFRESH-INTERVAL:P3D
CALSCALE:GREGORIAN
BEGIN:VEVENT
DTSTART:20200715T180000Z
DTEND:20200715T193000Z
X-MICROSOFT-CDO-ALLDAYEVENT:FALSE
SUMMARY:COVID-19 & The New Normal: Helping Your Business Survive the Challenges & Thrive After Reopening
DESCRIPTION:COVID-19 & The New Normal:  Helping Your Business Survive the Challenges & Thrive After Reopening\n\n\nAttorneys from Reid and Riege\, P.C. will participate in a timely webinar that will cover key issues for businesses to consider after reopening during the COVID-19 pandemic. \n\n \n\nTopics will include:\n\n              Contract Performance:  Commercial Lease Considerations & Options in Light of COVID-19\n\n              COVID-19 Lawsuits:  Pursuing or Facing a Grievance\n\n              Litigation:  Exposure Liability & Insurance Coverage\n\n              Reorganization & Bankruptcy:  Turning Things Around vs. Liquidation\n\n\n\nAfter registering\, you will receive a confirmation email containing information about joining the webinar.
X-ALT-DESC;FMTTYPE=text/html:<h2><br />\n<strong>COVID-19 &amp\;&nbsp\;The New Normal:&nbsp\; Helping Your Business Survive the Challenges &amp\; Thrive&nbsp\;After Reopening</strong></h2>\n<br />\nAttorneys from Reid and Riege\, P.C. will participate in a timely webinar that will cover key issues for businesses to consider after reopening during the COVID-19 pandemic.&nbsp\;<br />\n&nbsp\;<br />\nTopics will include:<br />\n&bull\;&nbsp\;&nbsp\;&nbsp\;&nbsp\;&nbsp\;&nbsp\;&nbsp\;&nbsp\;&nbsp\;&nbsp\;&nbsp\;&nbsp\; Contract Performance:&nbsp\; Commercial Lease Considerations &amp\; Options in Light of COVID-19<br />\n&bull\;&nbsp\;&nbsp\;&nbsp\;&nbsp\;&nbsp\;&nbsp\;&nbsp\;&nbsp\;&nbsp\;&nbsp\;&nbsp\;&nbsp\; COVID-19 Lawsuits:&nbsp\; Pursuing or Facing a Grievance<br />\n&bull\;&nbsp\;&nbsp\;&nbsp\;&nbsp\;&nbsp\;&nbsp\;&nbsp\;&nbsp\;&nbsp\;&nbsp\;&nbsp\;&nbsp\; Litigation:&nbsp\; Exposure Liability &amp\; Insurance Coverage<br />\n&bull\;&nbsp\;&nbsp\;&nbsp\;&nbsp\;&nbsp\;&nbsp\;&nbsp\;&nbsp\;&nbsp\;&nbsp\;&nbsp\;&nbsp\; Reorganization &amp\; Bankruptcy:&nbsp\; Turning Things Around vs. Liquidation<br />\n<br />\n<strong>After registering\, you will receive a confirmation email containing information about joining the webinar.</strong>
LOCATION:
UID:e.1932.18172
SEQUENCE:3
DTSTAMP:20260425T214911Z
URL:https://business.middlesexchamber.com/events/details/covid-19-the-new-normal-helping-your-business-survive-the-challenges-thrive-after-reopening-18172
END:VEVENT

END:VCALENDAR
