BEGIN:VCALENDAR
VERSION:2.0
PRODID:-//ChamberMaster//Event Calendar 2.0//EN
METHOD:PUBLISH
X-PUBLISHED-TTL:P3D
REFRESH-INTERVAL:P3D
CALSCALE:GREGORIAN
BEGIN:VEVENT
DTSTART:20260606T150000Z
DTEND:20260606T210000Z
X-MICROSOFT-CDO-ALLDAYEVENT:FALSE
SUMMARY:Cornhole Tournament in Old Saybrook
DESCRIPTION:Save the date\, June 6th\, 2026\, for the 3rd Annual Cornhole Tournament at the American Legion at 80 Essex Road in Old Saybrook. \n\n\n\nOver the past two years we have raised over $40\,000 from this event to support local great charities\, The Disabled American Veterans\, The Lyle Eastman Scholarship Fund and The ML Cattel Foundation.\n\n\n\nIt only costs $50.00 per team to play. We pay cash prizes to the top three teams along with cash prizes for the best team's name and best team tee shirt.\n\n\n\nThis is more than a cornhole tournament\, it is a day of great fun. We have great silent auction items\, teacup raffle\, Lottery Tree raffle\, UCONN Basketball game raffle\, sports memorabilia and a ring toss for wine.\n\n\n\nWe will be serving delicious food with a cash bar with impressive drink specials.\n\n\n\nTo sign up\, CLICK HERE and venmo me $50.00 @mlcattelfoundation. If you cannot play\, you can always donate an item for our raffles. If your company wants to help us\, we always need new sponsors\, please reach out to me\, Mark Cattel @ 860-983-8628 or email me @ mark@mlcattelfoundation.org.  Thank You
X-ALT-DESC;FMTTYPE=text/html:<span style="font-size:18px\;">Save the date\, June 6<sup>th</sup>\, 2026\, for the 3<sup>rd</sup> Annual Cornhole Tournament at the American Legion at 80 Essex Road in Old Saybrook.&nbsp\;<br />\n<br />\nOver the past two years we have raised over $40\,000 from this event to support local great charities\, The Disabled American Veterans\, The Lyle Eastman Scholarship Fund and The ML Cattel Foundation.<br />\n<br />\nIt only costs $50.00 per team to play. We pay cash prizes to the top three teams along with cash prizes for the best team&rsquo\;s name and best team tee shirt.<br />\n<br />\nThis is more than a cornhole tournament\, it is a day of great fun. We have great silent auction items\, teacup raffle\, Lottery Tree raffle\, UCONN Basketball game raffle\, sports memorabilia and a ring toss for wine.<br />\n<br />\nWe will be serving delicious food with a cash bar with impressive drink specials.<br />\n<br />\nTo sign up\, <a href="http://www.mlcattelfoundation.org/cornhole"><strong>CLICK HERE</strong></a> and venmo me $50.00 @mlcattelfoundation. If you cannot play\, you can always donate an item for our raffles. If your company wants to help us\, we always need new sponsors\, please reach out to me\, Mark Cattel @ 860-983-8628 or email me @ <a href="mailto:mark@mlcattelfoundation.org">mark@mlcattelfoundation.org</a>. &nbsp\;Thank You</span>
LOCATION:American Legion 80 Essex Road Saybrook\, CT
UID:e.1932.35108
SEQUENCE:3
DTSTAMP:20260424T192450Z
URL:https://business.middlesexchamber.com/events/details/cornhole-tournament-in-old-saybrook-35108
END:VEVENT

END:VCALENDAR
