BEGIN:VCALENDAR
VERSION:2.0
PRODID:-//ChamberMaster//Event Calendar 2.0//EN
METHOD:PUBLISH
X-PUBLISHED-TTL:P3D
REFRESH-INTERVAL:P3D
CALSCALE:GREGORIAN
BEGIN:VEVENT
DTSTART:20200507T163000Z
DTEND:20200507T173000Z
X-MICROSOFT-CDO-ALLDAYEVENT:FALSE
SUMMARY:Conversation with Congressman John Larson & SBA Regional Administrator Wendell Davis - Small Business Discussion
DESCRIPTION:Congressman John Larson will discuss the latest developments regarding relief for small business owners with SBA Regional Administrator Wendell Davis. WBDC\, CEO Fran Pastore will moderate the discussion and field calls from attendees for  Representative Larson and SBA Regional Administrator Davis .\n\n\n\nRegistration Not Required/No Charge
X-ALT-DESC;FMTTYPE=text/html:<div style="clear:both\;"><span style="font-size:16px\;"><span style="font-family:comic sans ms\;">Congressman&nbsp\;John Larson will discuss the latest developments regarding relief for small business owners with </span></span><span style="font-family:source sans pro\,sans-serif\;"><span style="font-size:12.0pt\;"><span style="font-size:16px\;"><span style="font-family:comic sans ms\;">SBA Regional Administrator Wendell Davis</span></span></span></span><span style="font-size:16px\;"><span style="font-family:comic sans ms\;">. WBDC\, CEO Fran Pastore will moderate the discussion and field calls from attendees for&nbsp\; Representative Larson and </span></span><span style="font-family:source sans pro\,sans-serif\;"><span style="font-size:12.0pt\;">SBA Regional Administrator&nbsp\;Davis&nbsp\;</span></span><span style="font-size:16px\;"><span style="font-family:comic sans ms\;">.<br />\n<br />\nRegistration Not Required/No Charge</span></span></div>\n
LOCATION:VIA ZOOM
UID:e.1932.17938
SEQUENCE:3
DTSTAMP:20260421T120242Z
URL:https://business.middlesexchamber.com/events/details/conversation-with-congressman-john-larson-sba-regional-administrator-wendell-davis-small-business-discussion-17938
END:VEVENT

END:VCALENDAR
