BEGIN:VCALENDAR
VERSION:2.0
PRODID:-//ChamberMaster//Event Calendar 2.0//EN
METHOD:PUBLISH
X-PUBLISHED-TTL:P3D
REFRESH-INTERVAL:P3D
CALSCALE:GREGORIAN
BEGIN:VEVENT
DTSTART:20230426T120000Z
DTEND:20230426T173000Z
X-MICROSOFT-CDO-ALLDAYEVENT:FALSE
SUMMARY:Connecticut Food and Beverage Business Summit
DESCRIPTION:Join us for Connecticut's inaugural Food and Beverage Business Growth Summit\, the premier event for industry professionals looking to take their businesses to the next level. This summit is a unique opportunity to learn from leading experts in the food and beverage industry. We will host a series of engaging panels and discussions on key topics such as marketing\, distribution\, and finance. But it's not just about learning - attendees will also have the chance to network with potential buyers\, investors\, and partners to expand their business reach. Join us for an inspiring and informative event that will propel your food and beverage business to success!\n\n \n\nEnjoy a networking luncheon after the panel discussions.\n\n \n\nPlease click on the link below for more information and to register:\n\nbit.ly/CTFoodBevSummit2023
X-ALT-DESC;FMTTYPE=text/html:<p class="m8412927027237433328xxxxmsonormal" style="background:white"><span class="m8412927027237433328xcontentpasted0"><span style="font-size:12.0pt\;\ncolor:#242424">Join us for Connecticut&rsquo\;s inaugural Food and Beverage Business Growth Summit\, the premier event for industry professionals looking to take their businesses to the next level. This summit is a unique opportunity to learn from leading experts in the food and beverage industry. We will host a series of engaging panels and discussions on key topics such as marketing\, distribution\, and finance. But it&#39\;s not just about learning - attendees will also have the chance to network with potential buyers\, investors\, and partners to expand their business reach. Join us for an inspiring and informative event that will propel your food and beverage business to success!</span></span><o:p></o:p></p>\n\n<p class="m8412927027237433328xxxxmsonormal" style="background:white"><span class="m8412927027237433328xcontentpasted0"><span style="font-size:12.0pt\;\ncolor:#242424">&nbsp\;</span></span><o:p></o:p></p>\n\n<p class="m8412927027237433328xxxxmsonormal" style="background:white"><span class="m8412927027237433328xcontentpasted0"><span style="font-size:12.0pt\;\ncolor:#242424">Enjoy a networking luncheon after the panel discussions.</span></span><o:p></o:p></p>\n\n<p class="m8412927027237433328xxxxmsonormal" style="background:white"><span class="m8412927027237433328xcontentpasted0"><span style="font-size:12.0pt\;\ncolor:#242424">&nbsp\;</span></span><o:p></o:p></p>\n\n<p class="m8412927027237433328xxxxmsonormal" style="background:white"><span class="m8412927027237433328xcontentpasted0"><span style="font-size:12.0pt\;\ncolor:#242424">Please click on the link below for more information and to register:</span></span><o:p></o:p></p>\n\n<p class="m8412927027237433328xxxxmsonormal" style="background:white"><span class="m8412927027237433328xcontentpasted0"><span style="font-size:12.0pt\;\ncolor:#242424"><a href="https://emenuapps.ita.doc.gov/ePublic/event/editWebReg.do?SmartCode=3QET" target="_blank">bit.ly/CTFoodBevSummit2023 </a>&nbsp\;</span></span><o:p></o:p></p>\n
LOCATION:
UID:e.1932.25244
SEQUENCE:3
DTSTAMP:20260420T153438Z
URL:https://business.middlesexchamber.com/events/details/connecticut-food-and-beverage-business-summit-25244
END:VEVENT

END:VCALENDAR
