BEGIN:VCALENDAR
VERSION:2.0
PRODID:-//ChamberMaster//Event Calendar 2.0//EN
METHOD:PUBLISH
X-PUBLISHED-TTL:P3D
REFRESH-INTERVAL:P3D
CALSCALE:GREGORIAN
BEGIN:VEVENT
DTSTART:20161011T190000Z
DTEND:20161011T200000Z
X-MICROSOFT-CDO-ALLDAYEVENT:FALSE
SUMMARY:Connecticut Chamber Health Plan
DESCRIPTION:The rising cost of healthcare is begging for an affordable solution in Connecticut. Your Chamber needs your feedback on the development of a new health insurance program exclusively for Chamber members. Those insured by the large\, traditional health plans are becoming older and sicker\, and the young and healthy see no reason to buy unaffordable health insurance.\n\n \n\nThe result is an average premium increase of 20.3% nationwide for 2017. Proposed rate increases in Connecticut are as high as 28% for small group plans and 42% for individuals. Rather than simply give in\, we need a different approach   a real solution for chamber members.\n\n \n\nThe good news is we've found one. On October 11th\, the Middlesex Chamber and Chamber Insurance Trust invite you to learn about the Connecticut Chamber Health Plan. This proposed alternative\, offered exclusively to chamber member companies\, could lower premiums\, provide individuals with access to any provider and simplify plan administration.\n\n \n\nWe encourage all members and brokers to join the discussion at the  2016 Business to Business Expo   Tuesday\, October 11\, 2016 at the Radisson Hotel Cromwell located at 100 Berlin Road\, Cromwell. We look forward to seeing you there. You can also visit the Chamber Insurance Trust booth at the Expo from 9:30am to 7:00pm and hear about the proposed affordable healthcare plan.
X-ALT-DESC;FMTTYPE=text/html:<span style="color:black\;"><span style="font-family:helvetica\,sans-serif\;">The rising cost of healthcare is begging for an affordable solution in Connecticut. Your&nbsp\;Chamber</span>&nbsp\;needs your feedback on the development of a new health&nbsp\;insurance</span>&nbsp\;program exclusively for&nbsp\;Chamber&nbsp\;members. Those&nbsp\;insured&nbsp\;by the large\, traditional health plans are becoming older and sicker\, and the young and healthy see no reason to buy unaffordable health&nbsp\;insurance.<br />\n&nbsp\;<br />\n<span style="color:black\;"><span style="font-family:helvetica\,sans-serif\;">The result is an average premium increase of 20.3% nationwide for 2017. Proposed rate increases in Connecticut are as high as 28% for small group plans and 42% for individuals. Rather than simply give in\, we need a different approach &ndash\; a real solution for&nbsp\;chamber</span>&nbsp\;members.</span><br />\n&nbsp\;<br />\n<span style="color:black\;"><span style="font-family:helvetica\,sans-serif\;">The good news is we&rsquo\;ve found one. On October 11<sup>th</sup>\, the Middlesex&nbsp\;Chamber</span>&nbsp\;and&nbsp\;Chamber</span>&nbsp\;Insurance&nbsp\;Trust&nbsp\;invite you to learn about the Connecticut&nbsp\;Chamber&nbsp\;Health Plan. This proposed alternative\, offered exclusively to&nbsp\;chamber&nbsp\;member companies\, could lower premiums\, provide individuals with access to any provider and simplify plan administration.<br />\n&nbsp\;<br />\n<span style="color:black\;"><span style="font-family:helvetica\,sans-serif\;">We encourage all members and brokers to join the discussion at the&nbsp\; 2016 Business to Business Expo &ndash\;&nbsp\;<span data-term="goog_1086019406" style="border-bottom:1px dashed rgb(204\, 204\, 204)\;position:relative\;top:-2px\;z-index:0\;" tabindex="0"><span style="position:relative\;top:2px\;z-index:-1\;">Tuesday\, October 11\, 2016</span></span>&nbsp\;at the Radisson Hotel Cromwell located at 100 Berlin Road\, Cromwell. We look forward to seeing you there. You can also visit the&nbsp\;Chamber</span>&nbsp\;Insurance</span>&nbsp\;Trust&nbsp\;booth at the Expo from 9<span data-term="goog_1086019407" style="border-bottom:1px dashed rgb(204\, 204\, 204)\;position:relative\;top:-2px\;z-index:0\;" tabindex="0"><span style="position:relative\;top:2px\;z-index:-1\;">:30am to 7:00pm</span></span>&nbsp\;and hear about the proposed affordable healthcare plan.<br />\n&nbsp\;
LOCATION:Business to Business Expo Radisson Hotel Cromwell 100 Berlin Road\, Cromwell\, CT 06416
UID:e.1932.4062
SEQUENCE:3
DTSTAMP:20260421T083744Z
URL:https://business.middlesexchamber.com/events/details/connecticut-chamber-health-plan-4062
END:VEVENT

END:VCALENDAR
