BEGIN:VCALENDAR
VERSION:2.0
PRODID:-//ChamberMaster//Event Calendar 2.0//EN
METHOD:PUBLISH
X-PUBLISHED-TTL:P3D
REFRESH-INTERVAL:P3D
CALSCALE:GREGORIAN
BEGIN:VEVENT
DTSTART:20230205T213000Z
DTEND:20230206T010000Z
X-MICROSOFT-CDO-ALLDAYEVENT:FALSE
SUMMARY:Comedy Show - Limelight Entertainment
DESCRIPTION:Limelight Entertainment presents a:\n\n"Night of Comedy"\n\n \n\n	4:30PM  Buffet Dinner\n	6:00PM  Comedy Show\n\n \n\n\n	Linda Belt: HBO\, The View\, Cruise Ships\, XM Radio \n	Max Dolcelli: HBO\, A&E\, Comedy Central\, Princess Cruise Lines\, Villa Roma Resort\n\n\n\nFundraiser to help support St. Jude's Research Hospital
X-ALT-DESC;FMTTYPE=text/html:<span style="font-size:24px\;">Limelight Entertainment presents a:<br />\n<strong>&quot\;Night of Comedy&quot\;</strong></span><br />\n&nbsp\;\n<ul>\n	<li><span style="font-size:26px\;">4:30PM&nbsp\; Buffet Dinner</span></li>\n	<li><span style="font-size:26px\;">6:00PM&nbsp\; Comedy Show</span></li>\n</ul>\n&nbsp\;\n\n<ul>\n	<li><span style="font-size:24px\;"><strong>Linda Belt:</strong> HBO\, The View\, Cruise Ships\, XM Radio </span></li>\n	<li><span style="font-size:24px\;"><strong>Max Dolcelli:</strong> HBO\, A&amp\;E\, Comedy Central\, Princess Cruise Lines\, Villa Roma Resort</span></li>\n</ul>\n<br />\n<span style="font-size:24px\;">Fundraiser to help support St. Jude&#39\;s Research Hospital</span>
LOCATION:Cantina Cafe Ristorante 74 Court St\, Middletown\, CT 06457
UID:e.1932.24638
SEQUENCE:3
DTSTAMP:20260420T182046Z
URL:https://business.middlesexchamber.com/events/details/comedy-show-limelight-entertainment-24638
END:VEVENT

END:VCALENDAR
