BEGIN:VCALENDAR
VERSION:2.0
PRODID:-//ChamberMaster//Event Calendar 2.0//EN
METHOD:PUBLISH
X-PUBLISHED-TTL:P3D
REFRESH-INTERVAL:P3D
CALSCALE:GREGORIAN
BEGIN:VEVENT
DTSTART:20241019T220000Z
DTEND:20241020T020000Z
X-MICROSOFT-CDO-ALLDAYEVENT:FALSE
SUMMARY:Comedy Fundraiser for Epilepsy
DESCRIPTION:Come enjoy a fun night out with local comedians for a great cause.\n\n\n\nThis is a BYOS - Bring your own snacks with a cash bar.\n\n\n\nIt's an 18 + Adult Show. Be ready for some serious laughs!!\n\n\n\nCan't make it\, you can still make a donation at this link.
X-ALT-DESC;FMTTYPE=text/html:<span style="font-size:18px\;">Come enjoy a fun night out with local comedians for a great cause.<br />\n<br />\nThis is a BYOS - Bring your own snacks with a cash bar.<br />\n<br />\nIt&#39\;s an 18 + Adult Show. Be ready for some serious laughs!!<br />\n<br />\nCan&#39\;t make it\, you can still make a donation at <strong><a href="https://www.funny4funds.com/events/epilepsy-foundation-of-ct-comedy-fundraiser/1348">this link.</a></strong></span>
LOCATION:Bristol Elks Club 126 South Street Bristol\, CT 06010
UID:e.1932.29714
SEQUENCE:3
DTSTAMP:20260419T134300Z
URL:https://business.middlesexchamber.com/events/details/comedy-fundraiser-for-epilepsy-29714
END:VEVENT

END:VCALENDAR
