BEGIN:VCALENDAR
VERSION:2.0
PRODID:-//ChamberMaster//Event Calendar 2.0//EN
METHOD:PUBLISH
X-PUBLISHED-TTL:P3D
REFRESH-INTERVAL:P3D
CALSCALE:GREGORIAN
BEGIN:VEVENT
DTSTART:20250927T140000Z
DTEND:20250927T160000Z
X-MICROSOFT-CDO-ALLDAYEVENT:FALSE
SUMMARY:Collaborative ABA Services Annual Meet & Greet
DESCRIPTION:Collaborative ABA Services\, LLC\, a local behavioral health practice\, is teaming up for a fourth year with the Middletown Recreation Department\, Middletown Police\, and South Fire District to host a Meet and Greet on Saturday\, September 27\, 2025 from 10-12pm. This is an inclusive family fun event for children with all abilities. This event is open to individuals from Middletown and surrounding communities. There will be games\, activities\, food\, and it's FREE. Saturday\, September 27\, 2025 from 10am-12pm 140 Wilderman's Way Middletown\, CT
X-ALT-DESC;FMTTYPE=text/html:Collaborative ABA Services\, LLC\, a local behavioral health practice\, is teaming up for a fourth year with the Middletown Recreation Department\, Middletown Police\, and South Fire District to host a Meet and Greet on Saturday\, September 27\, 2025 from 10-12pm. This is an inclusive family fun event for children with all abilities. This event is open to individuals from Middletown and surrounding communities. There will be games\, activities\, food\, and it&#39\;s FREE. Saturday\, September 27\, 2025 from 10am-12pm 140 Wilderman&#39\;s Way Middletown\, CT
LOCATION:140 Wilderman's Way Middletown\, CT
UID:e.1932.33908
SEQUENCE:3
DTSTAMP:20260424T224202Z
URL:https://business.middlesexchamber.com/events/details/collaborative-aba-services-annual-meet-greet-33908
END:VEVENT

END:VCALENDAR
