BEGIN:VCALENDAR
VERSION:2.0
PRODID:-//ChamberMaster//Event Calendar 2.0//EN
METHOD:PUBLISH
X-PUBLISHED-TTL:P3D
REFRESH-INTERVAL:P3D
CALSCALE:GREGORIAN
BEGIN:VEVENT
DTSTART:20171005T200000Z
DTEND:20171005T230000Z
X-MICROSOFT-CDO-ALLDAYEVENT:FALSE
SUMMARY:CMS Open House | Meet and Greet
DESCRIPTION:We're celebrating our new location. Come down\, meet our staff\, and tour our new offices. Seasonal Oktoberfest food and beverages will be served.\n\n\n\nRSVP below:\n\nhttps://events.r20.constantcontact.com/register/eventReg?oeidk=a07eehfgoboa6037d05&oseq=&c=&ch=
X-ALT-DESC;FMTTYPE=text/html:<br />\nWe&#39\;re celebrating&nbsp\;our new location. Come down\, meet our staff\,&nbsp\;and tour our new offices.&nbsp\;Seasonal Oktoberfest food and beverages will be served.<br />\n<br />\n<strong>RSVP below:</strong><br />\n<a href="https://events.r20.constantcontact.com/register/eventReg?oeidk=a07eehfgoboa6037d05&amp\;oseq=&amp\;c=&amp\;ch=">https://events.r20.constantcontact.com/register/eventReg?oeidk=a07eehfgoboa6037d05&amp\;oseq=&amp\;c=&amp\;ch=</a><br />\n&nbsp\;
LOCATION:CMS | Computer Management Office 55-1 Plains Road Essex\, CT 06426
UID:e.1932.4630
SEQUENCE:3
DTSTAMP:20260423T161936Z
URL:https://business.middlesexchamber.com/events/details/cms-open-house-meet-and-greet-4630
END:VEVENT

END:VCALENDAR
