BEGIN:VCALENDAR
VERSION:2.0
PRODID:-//ChamberMaster//Event Calendar 2.0//EN
METHOD:PUBLISH
X-PUBLISHED-TTL:P3D
REFRESH-INTERVAL:P3D
CALSCALE:GREGORIAN
BEGIN:VEVENT
DTSTART:20230423T230000Z
DTEND:20230424T003000Z
X-MICROSOFT-CDO-ALLDAYEVENT:FALSE
SUMMARY:Clint Black
DESCRIPTION:Country music star Clint Black rolls into Foxwoods Resort Casino!\n\nA country music traditionalist from Texas\,\n\n\n\nClint Black was one of the first artists to kick-start the mass-market popularity of country in the '90s. Black is also one of the first artists of a generation that was equally inspired by rock-oriented pop like '70s singer/songwriters and '60s rock & roll as well as country artists Merle Haggard\, Bob Wills\, and George Jones.\n\n\n\nBorn in New Jersey but raised in Houston\, he absolutely tore up the country charts when he debuted in 1989 -- his first four singles hit number one\, and his first 24 all reached the Top Ten.\n\n\n\nCo-writing every one of his numerous hits\, Black brings a highly personal style to his music that is uncommon within Nashville.\n\n\n\nA fine guitarist and producer as well\, he has collaborated with artists including Roy Rogers\, Martina McBride\, Wynonna\, Alison Krauss\, Bruce Hornsby\, and his wife Lisa Hartman-Black\, with great success.
X-ALT-DESC;FMTTYPE=text/html:<div style="text-align: center\;"><strong>Country music star Clint Black rolls into Foxwoods Resort Casino!<br />\nA country music traditionalist from Texas\,</strong><br />\n<br />\nClint Black was one of the first artists to kick-start the mass-market popularity of country in the &#39\;90s. Black is also one of the first artists of a generation that was equally inspired by rock-oriented pop like &#39\;70s singer/songwriters and &#39\;60s rock &amp\; roll as well as country artists Merle Haggard\, Bob Wills\, and George Jones.<br />\n<br />\nBorn in New Jersey but raised in Houston\, he absolutely tore up the country charts when he debuted in 1989 -- his first four singles hit number one\, and his first 24 all reached the Top Ten.<br />\n<br />\nCo-writing every one of his numerous hits\, Black brings a highly personal style to his music that is uncommon within Nashville.<br />\n<br />\nA fine guitarist and producer as well\, he has collaborated with artists including Roy Rogers\, Martina McBride\, Wynonna\, Alison Krauss\, Bruce Hornsby\, and his wife Lisa Hartman-Black\, with great success.</div>\n
LOCATION:Foxwoods Resort Casino inside the Premier Theater 350 TROLLEY LINE BOULEVARD MASHANTUCKET\, CT 06338
UID:e.1932.25251
SEQUENCE:3
DTSTAMP:20260420T152709Z
URL:https://business.middlesexchamber.com/events/details/clint-black-25251
END:VEVENT

END:VCALENDAR
