BEGIN:VCALENDAR
VERSION:2.0
PRODID:-//ChamberMaster//Event Calendar 2.0//EN
METHOD:PUBLISH
X-PUBLISHED-TTL:P3D
REFRESH-INTERVAL:P3D
CALSCALE:GREGORIAN
BEGIN:VEVENT
DTSTART:20201127T180000Z
DTEND:20201127T200000Z
X-MICROSOFT-CDO-ALLDAYEVENT:FALSE
SUMMARY:Christmas Toy Drive
DESCRIPTION:It's time to gather lots of toys\, to share with Middletown girls and boys! \n	Please be sure they are new and unwrapped!\n	Drop them off at The Village at South Farms\, 645 Saybrook Road\, Middletown\n	And if you plan it right\, we will meet you on the porch or at your car to share a Christmas Cookie\, A Cup of Cocoa and a Candy Cane!\n\n  Elves will serve goodies FRIDAYS from 1:00 p.m. - 3:00 p.m. - November 27\, December 4 & December 11\n\nToys may be dropped off at other times\, but please have all Donations in by December 11th!
X-ALT-DESC;FMTTYPE=text/html:<ul>\n	<li><strong>It&#39\;s time to gather lots of toys\, to share with Middletown girls and boys!&nbsp\;</strong></li>\n	<li>Please be sure they are new and unwrapped!</li>\n	<li>Drop them off at <em><strong>The Village at South Farms</strong></em>\, 645 Saybrook Road\, Middletown</li>\n	<li>And if you plan it right\, we will meet you on the porch or at your car to share a <strong>Christmas Cookie\, A Cup of Cocoa and a Candy Cane!</strong></li>\n</ul>\n&nbsp\; <strong>Elves</strong> will serve goodies <strong>FRIDAYS</strong> from <strong>1:00 p.m. - 3:00 p.m.</strong> - <em><strong>November 27\, December 4 &amp\; December 11</strong></em><br />\n<em><strong>Toys may be dropped off at other times</strong></em>\, but please have all <u><strong>Donations in by December 11th!&nbsp\;</strong></u><br />\n&nbsp\;
LOCATION:The Village at South Farms 645 Saybrook Road Middletown\, CT
UID:e.1932.20123
SEQUENCE:3
DTSTAMP:20260426T025308Z
URL:https://business.middlesexchamber.com/events/details/christmas-toy-drive-20123
END:VEVENT

END:VCALENDAR
