BEGIN:VCALENDAR
VERSION:2.0
PRODID:-//ChamberMaster//Event Calendar 2.0//EN
METHOD:PUBLISH
X-PUBLISHED-TTL:P3D
REFRESH-INTERVAL:P3D
CALSCALE:GREGORIAN
BEGIN:VEVENT
DTSTART:20260412T170000Z
DTEND:20260412T200000Z
X-MICROSOFT-CDO-ALLDAYEVENT:FALSE
SUMMARY:Chocolate to the Rescue
DESCRIPTION:Join us for the 23rd Chocolate to the Rescue! Enjoy decadent chocolates\, vote on your favorites and bid on an array of silent auction items all to benefit families experiencing homelessness in our community.
X-ALT-DESC;FMTTYPE=text/html:Join us for the 23rd Chocolate to the Rescue! Enjoy decadent chocolates\, vote on your favorites and bid on an array of silent auction items all to benefit families experiencing homelessness in our community.
LOCATION:Crystal Ballroom 44 Maynard Street Middletown\, CT
UID:e.1932.34754
SEQUENCE:3
DTSTAMP:20260422T183317Z
URL:https://business.middlesexchamber.com/events/details/chocolate-to-the-rescue-04-12-2026-34754
END:VEVENT

END:VCALENDAR
