BEGIN:VCALENDAR
VERSION:2.0
PRODID:-//ChamberMaster//Event Calendar 2.0//EN
METHOD:PUBLISH
X-PUBLISHED-TTL:P3D
REFRESH-INTERVAL:P3D
CALSCALE:GREGORIAN
BEGIN:VEVENT
DTSTART:20251003T120000Z
DTEND:20251003T130000Z
X-MICROSOFT-CDO-ALLDAYEVENT:FALSE
SUMMARY:Chester/Deep River/Essex Division
DESCRIPTION:The Chamber has nine geographically based divisions which meet on a monthly basis throughout Middlesex County. These divisions focus on local economic development issues and each meeting features an update from local municipal officials.\n\n\n\nTwice a year\, in November and March\, our monthly morning division meetings are held during the evening and feature appetizers and networking\, with the goal of creating new connections.\n\n\n\nThe Chester/Deep River/Essex Division occurs on the first Friday of the month at different locations. This division does not meet in the Summer months of July and August.\n\n\n\nOctober's meeting is dedicated to the annual Candidate Forum. The following candidates for First Selectman have been invited to participate:\n\n\n\nChester\n\nCindy Lignar (D)\, incumbent\n\n\n\nDeep River\n\nCarol Doak-Jones (D)\, incumbent\n\nKathryn Russell (R)\n\nOswald Sheppard (U)\n\n\n\nEssex\n\nNorm Needleman (D)\, incumbent\n\n\n\nThank you to the Town of Chester for hosting the meeting.
X-ALT-DESC;FMTTYPE=text/html:The Chamber has nine geographically based divisions which meet on a monthly basis throughout Middlesex County. These divisions focus on local economic development issues and each meeting features an update from local municipal officials.<br />\n<br />\nTwice a year\, in November and March\, our monthly morning division meetings are held during the evening and feature appetizers and networking\, with the goal of creating new connections.<br />\n<br />\nThe Chester/Deep River/Essex Division occurs on the first Friday of the month at different locations. This division does not meet in the Summer months of July and August.<br />\n<br />\nOctober&#39\;s meeting is dedicated to the annual Candidate Forum. The following candidates for First Selectman have been invited to participate:<br />\n<br />\n<u><strong>Chester</strong></u><br />\nCindy Lignar (D)\, incumbent<br />\n<br />\n<u><strong>Deep River</strong></u><br />\nCarol Doak-Jones (D)\, incumbent<br />\nKathryn Russell (R)<br />\nOswald Sheppard (U)<br />\n<br />\n<u><strong>Essex</strong></u><br />\nNorm Needleman (D)\, incumbent<br />\n<br />\nThank you to the Town of Chester for hosting the meeting.
LOCATION:Chester Town Hall 203 Middlesex Avenue\, Chester\, CT 06412
UID:e.1932.30295
SEQUENCE:3
DTSTAMP:20260424T224411Z
URL:https://business.middlesexchamber.com/events/details/chester-deep-river-essex-division-10-03-2025-30295
END:VEVENT

END:VCALENDAR
