BEGIN:VCALENDAR
VERSION:2.0
PRODID:-//ChamberMaster//Event Calendar 2.0//EN
METHOD:PUBLISH
X-PUBLISHED-TTL:P3D
REFRESH-INTERVAL:P3D
CALSCALE:GREGORIAN
BEGIN:VEVENT
DTSTART:20230407T120000Z
DTEND:20230407T130000Z
X-MICROSOFT-CDO-ALLDAYEVENT:FALSE
SUMMARY:Chester/Deep River/Essex Division
DESCRIPTION:Jeff Jacobson & Sharon Lewis\, Co-Chairs\n\ninvite you to the\n\nChester\, Deep River\, and Essex Division Meeting\n\n\n\nFriday\, April 7\, 2023\n\n8:00 a.m. to 9:00 a.m.\n\n\n\n\n\nAGENDA\n\n\n\nCall to Order\n\nJeff Jacobson & Sharon Lewis\, Co-Chairs\n\n\n\nHost Introduction\n\n\n\n\n\nLegislative Updates\n\nState Senator Needleman\n\nState Representative Christine Palm\n\n \n\nTown Updates\n\nCharlene Janecek\, First Selectman\, Chester\n\nAngus McDonald\, First Selectman\, Deep River\n\nNorm Needleman\, First Selectman\, Essex\n\n\n\nActivity\n\nGive Us Your Best Pitch\n\n\n\nChamber Updates\n\nJohanna Bond\, President\n\n \n\n \n\nAdjourn\n\n\n\n \n\nNext meeting:  Friday\, May 5\, 2023\n\nAlchemi Wealth (held at the Corinthian Yacht Club\, Novelty Lane\, Essex)\n\n \n\n  \n\nPlease tune to WMRD (1150) or WLIS (1420) on your AM radio for cancellation notices.
X-ALT-DESC;FMTTYPE=text/html:<div style="text-align: center\;"><strong style="text-align: center\;">Jeff Jacobson &amp\; Sharon Lewis\, Co-Chairs</strong></div>\n\n<div style="text-align: center\;"><span style="text-align: center\;">invite you to the</span><br style="text-align: center\;" />\n<strong style="text-align: center\;">Chester\, Deep River\, and Essex Division Meeting</strong><br style="text-align: center\;" />\n<br style="text-align: center\;" />\n<strong><span style="text-align: center\;">Friday\, April 7\, 2023</span></strong><br style="text-align: center\;" />\n<span style="text-align: center\;">8:00 a.m. to 9:00 a.m.</span><br style="text-align: center\;" />\n<br style="text-align: center\;" />\n<br style="text-align: center\;" />\n<strong><span style="text-align: center\;">AGENDA</span></strong><br style="text-align: center\;" />\n<br style="text-align: center\;" />\n<strong style="text-align: center\;">Call to Order</strong><br style="text-align: center\;" />\n<span style="text-align: center\;">Jeff Jacobson &amp\; Sharon Lewis\, Co-Chairs</span><br style="text-align: center\;" />\n<br style="text-align: center\;" />\n<strong style="text-align: center\;">Host Introduction</strong><br style="text-align: center\;" />\n<br style="text-align: center\;" />\n<br style="text-align: center\;" />\n<strong style="text-align: center\;">Legislative Updates</strong><br style="text-align: center\;" />\n<span style="text-align: center\;">State Senator Needleman</span><br style="text-align: center\;" />\n<span style="text-align: center\;">State Representative Christine Palm</span><br style="text-align: center\;" />\n<span style="text-align: center\;">&nbsp\;</span><br style="text-align: center\;" />\n<strong style="text-align: center\;">Town Updates</strong><br style="text-align: center\;" />\n<span style="text-align: center\;">Charlene Janecek\, First Selectman\, Chester</span><br style="text-align: center\;" />\n<span style="text-align: center\;">Angus McDonald\, First Selectman\, Deep River</span><br style="text-align: center\;" />\n<span style="text-align: center\;">Norm Needleman\, First Selectman\, Essex</span><br style="text-align: center\;" />\n<br style="text-align: center\;" />\n<strong style="text-align: center\;">Activity</strong><br style="text-align: center\;" />\nGive Us Your Best Pitch<br style="text-align: center\;" />\n<br style="text-align: center\;" />\n<strong style="text-align: center\;">Chamber Updates</strong><br style="text-align: center\;" />\n<span style="text-align: center\;">Johanna Bond\, President</span><br style="text-align: center\;" />\n<span style="text-align: center\;">&nbsp\;</span><br style="text-align: center\;" />\n<span style="text-align: center\;">&nbsp\;</span><br style="text-align: center\;" />\n<strong style="text-align: center\;">Adjourn</strong><br style="text-align: center\;" />\n<br style="text-align: center\;" />\n<span style="text-align: center\;">&nbsp\;</span><br style="text-align: center\;" />\n<strong><span style="text-align: center\;">Next meeting:&nbsp\; Friday\, May 5\, 2023</span></strong><br style="text-align: center\;" />\n<span style="text-align: center\;">Alchemi Wealth (held at the Corinthian Yacht Club\, Novelty Lane\, Essex)</span><br style="text-align: center\;" />\n<span style="text-align: center\;">&nbsp\;</span><br style="text-align: center\;" />\n<span style="text-align: center\;">&nbsp\;</span><span style="text-align: center\;">&nbsp\;</span><br style="text-align: center\;" />\n<span style="text-align: center\;">Please tune to WMRD (1150) or WLIS (1420) on your AM radio for cancellation notices.</span></div>\n
LOCATION:Aaron Manor 3 S Wig Hill Rd\, Chester\, CT 06412
UID:e.1932.24435
SEQUENCE:3
DTSTAMP:20260420T181456Z
URL:https://business.middlesexchamber.com/events/details/chester-deep-river-essex-division-04-07-2023-24435
END:VEVENT

END:VCALENDAR
