BEGIN:VCALENDAR
VERSION:2.0
PRODID:-//ChamberMaster//Event Calendar 2.0//EN
METHOD:PUBLISH
X-PUBLISHED-TTL:P3D
REFRESH-INTERVAL:P3D
CALSCALE:GREGORIAN
BEGIN:VEVENT
DTSTART:20210205T130000Z
DTEND:20210205T140000Z
X-MICROSOFT-CDO-ALLDAYEVENT:FALSE
SUMMARY:Chester/Deep River/Essex Division
DESCRIPTION:The Middlesex Chamber will strive to keep communication open in a virtual space. Join us for both open and themed discussions\, connecting our strong network of professionals. Open to all!
X-ALT-DESC;FMTTYPE=text/html:<br />\nThe Middlesex Chamber will strive to keep communication open in a virtual space. Join us for both open and themed discussions\, connecting our strong network of professionals. Open to all!
LOCATION:Meeting will be conducted via Zoom. Dial in via phone or join with your computer.
UID:e.1932.19387
SEQUENCE:3
DTSTAMP:20260424T220700Z
URL:https://business.middlesexchamber.com/events/details/chester-deep-river-essex-division-02-05-2021-19387
END:VEVENT

END:VCALENDAR
