BEGIN:VCALENDAR
VERSION:2.0
PRODID:-//ChamberMaster//Event Calendar 2.0//EN
METHOD:PUBLISH
X-PUBLISHED-TTL:P3D
REFRESH-INTERVAL:P3D
CALSCALE:GREGORIAN
BEGIN:VEVENT
DTSTART:20171013T220000Z
DTEND:20171014T020000Z
X-MICROSOFT-CDO-ALLDAYEVENT:FALSE
SUMMARY:Cheers for Adelbrook
DESCRIPTION:Cheers for  delbrook is a wine tasting fundraiser to benefit the children and young adults with autism and neurodevelopmental disorders served by  delbrook. As with wine\, many things get better with age\, and so it is with Cheers for  delbrook. In its 14th year\, this event brings in over 15 distributors each with a variety of wines and other spirits to taste thanks to our sponsor Liquor World of Cromwell. There will also be delicious Desserts from Sweet Harmony and Live Music from Will Evans. There is a live auction with wonderful items\, along with a silent and teacup auction.
X-ALT-DESC;FMTTYPE=text/html:Cheers for &Auml\;delbrook is a wine tasting fundraiser to benefit the children and young adults with autism and neurodevelopmental disorders served by &Auml\;delbrook. As with wine\, many things get better with age\, and so it is with Cheers for &Auml\;delbrook. In its 14th year\, this event brings in over 15 distributors each with a variety of wines and other spirits to taste thanks to our sponsor Liquor World of Cromwell. There will also be delicious Desserts from Sweet Harmony and Live Music from Will Evans. There is a live auction with wonderful items\, along with a silent and teacup auction.
LOCATION:Radisson Hotel\, 100 Berlin Road\, Cromwell\, CT
UID:e.1932.4609
SEQUENCE:3
DTSTAMP:20260423T224348Z
URL:https://business.middlesexchamber.com/events/details/cheers-for-adelbrook-4609
END:VEVENT

END:VCALENDAR
