BEGIN:VCALENDAR
VERSION:2.0
PRODID:-//ChamberMaster//Event Calendar 2.0//EN
METHOD:PUBLISH
X-PUBLISHED-TTL:P3D
REFRESH-INTERVAL:P3D
CALSCALE:GREGORIAN
BEGIN:VEVENT
DTSTART:20251106T220000Z
DTEND:20251107T000000Z
X-MICROSOFT-CDO-ALLDAYEVENT:FALSE
SUMMARY:Central Business Bureau (CBB) Division After Dark
DESCRIPTION:Meetings occur on the first Thursday of each month at 8:00 a.m. During the meetings\, there are City local updates\, as well as information about upcoming events.\n\n \nJIM TRZASKI\, CHAIRMAN\n\nInvites you to \n\nCBB DIVISION AFTER DARK\n\nTHURSDAY\, November 6\, 2025 \n\nAt\n\nESCA RESTAURANT AND WINE BAR \n\n437 Main Street\, Middletown\n\n \n\n5:00 p.m.   7:00 p.m.\n\n\n	This get-together will follow the format of Business After Work lots of Networking and BRING YOUR BUSINESS CARDS!  \n	There will be Complimentary Appetizers and a Cash Bar!\n	Join us for this opportunity to Build New Relationships and Connect with Friends and Associates!\n	PLEASE NOTE:  The regular morning meeting won't be held in November\, as Division After Dark replaces it in the months of March & November.   The March 5\, 2026 CBB Division After Dark has a Host\, however if anyone is interested in hosting the November 5\, 2026 Division After Dark\, please REPLY to this email to inquire.\n\n\n\n	Out of consideration for the Host\, please make a reservation if attending this meeting\, so they will have an accurate count  for the food...Thank you!\n\nPLEASE NOTE:\n\nSupport Our Community  \n\nCT Foodshare Donation Drive with Middlesex Chamber\n \n\nThe Chamber is proud to support CT Foodshare in their mission to fight hunger across Connecticut. During these challenging times\, many of our neighbors are facing food insecurity\, and together we can make a difference. We'll be collecting non-perishable food items and monetary donations to help restock local pantries and provide meals to those in need.\n\n \n\nWe encourage all committees\, councils\, and event attendees to join us in giving back   every contribution counts! Let's show the strength of our business community by coming together to support CT Foodshare and those who need it most.\n\n \nYOU MAY BRING ANY DONATIONS TO CBB DIVISION AFTER DARK AT ESCA'S RESTAURANT!\n \n\nWe will be splitting our collection between\n\nAmazing Grace Food Pantry and the Shoreline Kitchen
X-ALT-DESC;FMTTYPE=text/html:Meetings occur on the first Thursday of each month at 8:00 a.m. During the meetings\, there are City local updates\, as well as information about upcoming events.<br />\n&nbsp\;\n<div style="text-align: center\;"><strong><span style="font-family:arial\,sans-serif\;"><span style="font-size:10.5pt\;">JIM TRZASKI\, CHAIRMAN</span></span></strong><br />\nInvites you to&nbsp\;<br />\n<strong><span style="color:red\;"><span style="font-family:arial\,sans-serif\;"><span style="font-size:10.5pt\;">CBB DIVISION AFTER DARK</span></span></span></strong><br />\n<strong><span style="font-family:arial\,sans-serif\;"><span style="font-size:10.5pt\;">THURSDAY\, November 6\, 2025</span></span></strong>&nbsp\;<br />\nAt<br />\n<strong><em><span style="color:#333333\;"><span style="font-family:arial\,sans-serif\;"><span style="font-size:10.5pt\;">ESCA RESTAURANT AND WINE BAR&nbsp\;</span></span></span></em></strong><br />\n<strong><span style="font-family:arial\,sans-serif\;"><span style="font-size:10.5pt\;">437 Main Street\, Middletown</span></span></strong><br />\n&nbsp\;<br />\n<strong><span style="font-family:arial\,sans-serif\;"><span style="font-size:10.5pt\;">5:00 p.m. &ndash\; 7:00 p.m.</span></span></strong></div>\n\n<ul>\n	<li style="margin-top:5.0pt\;margin-right:0in\;margin-bottom:5.0pt\;"><span style="font-family:arial\,sans-serif\;"><span style="font-size:10.5pt\;">This get-together will follow the <strong><span style="font-family:arial\,sans-serif\;">format of Business After Work</span></strong>&hellip\;lots of Networking and <strong><span style="font-family:arial\,sans-serif\;">BRING YOUR BUSINESS CARDS</span></strong><u>!</u>&nbsp\; </span></span></li>\n	<li style="margin-top:5.0pt\;margin-right:0in\;margin-bottom:5.0pt\;"><span style="font-family:arial\,sans-serif\;"><span style="font-size:10.5pt\;">There will be Complimentary Appetizers and a Cash Bar!</span></span></li>\n	<li style="margin-top:5.0pt\;margin-right:0in\;margin-bottom:5.0pt\;"><span style="font-family:arial\,sans-serif\;"><span style="font-size:10.5pt\;">Join us for this opportunity to <strong><span style="font-family:arial\,sans-serif\;">Build New Relationships</span></strong> and <strong><span style="font-family:arial\,sans-serif\;">Connect with Friends and Associates!</span></strong></span></span></li>\n	<li><strong><span style="font-family:arial\,sans-serif\;"><span style="font-size:10.5pt\;">PLEASE NOTE:&nbsp\; The regular morning meeting won&rsquo\;t be held in November\, as Division After Dark replaces it in the months of March &amp\; November.&nbsp\;&nbsp\; The March 5\, 2026 CBB Division After Dark has a Host\, however if anyone is interested in hosting the November 5\, 2026 Division After Dark\, please REPLY to this email to inquire.</span></span></strong></li>\n</ul>\n\n<ul font-size:="" style="padding: 0px 40px\; color: rgb(51\, 51\, 51)\; font-family: sans-serif\, Arial\, Verdana\, " trebuchet="">\n	<li><strong><span style="font-family: arial\, sans-serif\;"><span style="font-size: 10.5pt\;"><strong><span style="background: white\;"><span style="font-size: 10.5pt\;">Out of consideration for the Host</span></span></strong><span style="background: white\;"><span style="font-size: 10.5pt\;">\, please make a reservation if attending this meeting\, so they will have an&nbsp\;<strong>accurate count&nbsp\; for the food</strong>...Thank you!</span></span></span></span></strong></li>\n</ul>\n<strong><span style="font-family: arial\, sans-serif\;">PLEASE NOTE:</span></strong>\n\n<div style="text-align: center\;"><span style="font-size:20px\;"><span style="font-family:arial\;"><strong>Support Our Community &mdash\;<br />\nCT Foodshare Donation Drive with Middlesex Chamber</strong></span></span></div>\n&nbsp\;<br />\nThe Chamber is proud to support CT Foodshare in their mission to fight hunger across Connecticut. During these challenging times\, many of our neighbors are facing food insecurity\, and together we can make a difference. We&rsquo\;ll be collecting non-perishable food items and monetary donations to help restock local pantries and provide meals to those in need.<br />\n&nbsp\;<br />\n<strong>We encourage all committees\, councils\, and event attendees to join us in giving back</strong> &mdash\; every contribution counts! Let&rsquo\;s show the strength of our business community by coming together to support CT Foodshare and those who need it most.<br />\n&nbsp\;\n<div style="text-align: center\;"><strong><em><u>YOU MAY BRING ANY DONATIONS TO CBB DIVISION AFTER DARK AT ESCA&#39\;S RESTAURANT!</u></em></strong></div>\n&nbsp\;\n\n<div style="text-align: center\;"><span style="color:black\;"><span style="font-size:11.0pt\;">We will be splitting our collection between<br />\n<strong>Amazing Grace Food Pantry</strong> and the <strong>Shoreline Kitchen</strong></span></span></div>\n&nbsp\;<br />\n&nbsp\;
LOCATION:Esca Restaurant & Wine Bar 437 Main Street Middletown\, CT
UID:e.1932.30272
SEQUENCE:3
DTSTAMP:20260424T202636Z
URL:https://business.middlesexchamber.com/events/details/central-business-bureau-cbb-division-after-dark-11-06-2025-30272
END:VEVENT

END:VCALENDAR
