BEGIN:VCALENDAR
VERSION:2.0
PRODID:-//ChamberMaster//Event Calendar 2.0//EN
METHOD:PUBLISH
X-PUBLISHED-TTL:P3D
REFRESH-INTERVAL:P3D
CALSCALE:GREGORIAN
BEGIN:VEVENT
DTSTART:20171102T120000Z
DTEND:20171102T130000Z
X-MICROSOFT-CDO-ALLDAYEVENT:FALSE
SUMMARY:Central Business Bureau (CBB)
DESCRIPTION:This meeting is hosted by: Fat City Customs\n\n\n\nHosted by\n\n FAT CITY CUSTOMS\n\n \n\n	City Updates will be given by:\n\n      MAYOR DAN DREW\n\nAnd the following City Departments:\n\n\n	Planning Office\n	Parking Dept. \n	Police Dept.\n	Fire Dept.\n	Recreation & Community Services Dept.\n	Public Works \n	Water & Sewer\n	Health\n	Education\n\n\n\n	Wesleyan University Update\n\n\n\n	Middlesex Community College Update\n\n\n\n	Downtown Business District Update  \n\n\n\n	Chamber update on special events and activities\n\n\n\n	Other Business   \n\n\n\n	32nd ANNUAL HOLIDAY ON MAIN STREET\, Presented by Pratt & Whitney\n\nBegins Friday\, November 24   4:00 p.m.   8:15 p.m.\n\nContinues Saturday\, November 25   10:00 a.m.   2:00 p.m.\n\nSaturday\, December 2   9:30 a.m.   2:00 p.m.\n\nSaturday\, December 9   10:00 a.m.   2:00 p.m.\n\nSaturday\, December 16   10:00 a.m.   2:00 p.m.
X-ALT-DESC;FMTTYPE=text/html:<br />\n<span style="font-size:14px\;"><span style="font-family:arial\;">This meeting is hosted by: Fat City Customs<br />\n<br />\nHosted by<br />\n<strong>&nbsp\;FAT CITY CUSTOMS</strong><br />\n&nbsp\;</span></span>\n<ul>\n	<li><span style="font-size:14px\;"><span style="font-family:arial\;">City Updates will be given by:</span></span></li>\n</ul>\n<span style="font-size:14px\;"><span style="font-family:arial\;"><strong>&nbsp\;&nbsp\;&nbsp\;&nbsp\;&nbsp\; MAYOR DAN DREW</strong><br />\nAnd the following City Departments:</span></span>\n\n<ul style="list-style-type:circle\;">\n	<li><span style="font-size:14px\;"><span style="font-family:arial\;"><strong>Planning Office</strong></span></span></li>\n	<li><span style="font-size:14px\;"><span style="font-family:arial\;"><strong>Parking Dept. </strong></span></span></li>\n	<li><span style="font-size:14px\;"><span style="font-family:arial\;"><strong>Police Dept.</strong></span></span></li>\n	<li><span style="font-size:14px\;"><span style="font-family:arial\;"><strong>Fire Dept.</strong></span></span></li>\n	<li><span style="font-size:14px\;"><span style="font-family:arial\;"><strong>Recreation &amp\; Community Services Dept.</strong></span></span></li>\n	<li><span style="font-size:14px\;"><span style="font-family:arial\;"><strong>Public Works </strong></span></span></li>\n	<li><span style="font-size:14px\;"><span style="font-family:arial\;"><strong>Water &amp\; Sewer</strong></span></span></li>\n	<li><span style="font-size:14px\;"><span style="font-family:arial\;"><strong>Health</strong></span></span></li>\n	<li><span style="font-size:14px\;"><span style="font-family:arial\;"><strong>Education</strong></span></span></li>\n</ul>\n\n<ul>\n	<li><span style="font-size:14px\;"><span style="font-family:arial\;">Wesleyan University Update</span></span></li>\n</ul>\n\n<ul>\n	<li><span style="font-size:14px\;"><span style="font-family:arial\;">Middlesex Community College Update</span></span></li>\n</ul>\n\n<ul>\n	<li><span style="font-size:14px\;"><span style="font-family:arial\;">Downtown Business District Update&nbsp\; </span></span></li>\n</ul>\n\n<ul>\n	<li><span style="font-size:14px\;"><span style="font-family:arial\;">Chamber update on special events and activities</span></span></li>\n</ul>\n\n<ul>\n	<li><span style="font-size:14px\;"><span style="font-family:arial\;">Other Business &ndash\; </span></span></li>\n</ul>\n\n<ul style="list-style-type:circle\;">\n	<li><span style="font-family: arial\;"><strong style=""><span style="font-size: 14px\;">32</span><span style="font-size: 11.6667px\;">nd</span><span style="font-size: 11.6667px\;">&nbsp\;</span><span style="font-size: 14px\;">ANNUAL HOLIDAY ON MAIN STREET\, </span></strong><span style="font-size: 14px\;">Presented by </span><strong style="font-size: 14px\;">Pratt &amp\; Whitney</strong></span></li>\n</ul>\n<span style="font-size:14px\;"><span style="font-family:arial\;">Begins Friday\, <strong>November 24 &ndash\; 4:00 p.m. &ndash\; 8:15 p.m.</strong><br />\nContinues Saturday\, <strong>November 25 &ndash\; 10:00 a.m. &ndash\; 2:00 p.m.</strong><br />\nSaturday\, <strong>December 2 &ndash\; 9:30 a.m. &ndash\; 2:00 p.m.</strong><br />\nSaturday\, <strong>December 9 &ndash\; 10:00 a.m. &ndash\; 2:00 p.m.</strong><br />\nSaturday\, <strong>December 16 &ndash\; 10:00 a.m. &ndash\; 2:00 p.m.</strong></span></span><br />\n&nbsp\;
LOCATION:Middlesex Chamber 393 Main Street Middletown\, CT
UID:e.1932.4747
SEQUENCE:3
DTSTAMP:20260422T145109Z
URL:https://business.middlesexchamber.com/events/details/central-business-bureau-cbb-4747
END:VEVENT

END:VCALENDAR
