BEGIN:VCALENDAR
VERSION:2.0
PRODID:-//ChamberMaster//Event Calendar 2.0//EN
METHOD:PUBLISH
X-PUBLISHED-TTL:P3D
REFRESH-INTERVAL:P3D
CALSCALE:GREGORIAN
BEGIN:VEVENT
DTSTART:20171005T120000Z
DTEND:20171005T130000Z
X-MICROSOFT-CDO-ALLDAYEVENT:FALSE
SUMMARY:Central Business Bureau (CBB)
DESCRIPTION:TOM BYRNE\, CHAIRMAN\n\nInvites you to\n\n \n\nTHE CENTRAL BUSINESS BUREAU MEETING\n\nTHURSDAY\, OCTOBER 5\, 2017\n\n \n\nAt\n\nMiddlesex County Chamber of Commerce\n\n393 Main Street\, Middletown\n\n7:45 a.m.   9:00 a.m.\n\n \n\nHosted by\n\n Futures\, Inc. / Good Cause Gifts\n\n \n\nCity Updates will be given by:\n\nMAYOR DAN DREW\n\n \n\nAnd the following City Departments:\n\nPlanning Office\n\nParking Dept. \n\nPolice Dept.\n\nFire Dept.\n\nRecreation & Community Services Dept.\n\nPublic Works \n\nWater & Sewer\n\nHealth\n\nEducation\n\n                     \n\nWesleyan University Update\n\n \n\nMiddlesex Community College Update\n\n \n\nDowntown Business District Update  \n\n \n\nChamber update on special events and activities\n\n \n\nOther Business   \n\n \n\nGeen Thazhampallath\, Director of Middletown Parking Department\, will present a demonstration of the security cameras that have been installed to date in the Downtown!\n\n \n\n32ND ANNUAL HOLIDAY ON MAIN STREET\, Presented by Pratt & Whitney\n\nBegins Friday\, November 24   4:00 p.m.   8:15 p.m.\n\nContinues Saturday\, November 25   10:00 a.m.   2:00 p.m.\n\nSaturday\, December 2   9:30 a.m.   2:00 p.m.\n\nSaturday\, December 9   10:00 a.m.   2:00 p.m.\n\nSaturday\, December 16   10:00 a.m.   2:00 p.m.
X-ALT-DESC;FMTTYPE=text/html:<br />\n<strong><span style="font-family:arial\,sans-serif\;"><span style="font-size:12.0pt\;">TOM BYRNE\, CHAIRMAN</span></span></strong><br />\n<strong><span style="font-family:arial\,sans-serif\;"><span style="font-size:12.0pt\;">Invites you to</span></span></strong><br />\n&nbsp\;<br />\n<strong><span style="color:blue\;"><span style="font-family:arial\,sans-serif\;"><span style="font-size:12.0pt\;">THE CENTRAL BUSINESS BUREAU MEETING</span></span></span></strong><br />\n<strong><span style="font-family:arial\,sans-serif\;"><span style="font-size:12.0pt\;">THURSDAY\, OCTOBER 5\, 2017</span></span></strong><br />\n&nbsp\;<br />\n<span style="font-family:arial\,sans-serif\;"><span style="font-size:12.0pt\;">At</span></span><br />\n<strong><span style="font-family:arial\,sans-serif\;"><span style="font-size:12.0pt\;">Middlesex County Chamber of Commerce</span></span></strong><br />\n<span style="font-family:arial\,sans-serif\;"><span style="font-size:12.0pt\;">393 Main Street\, Middletown</span></span><br />\n<strong><span style="font-family:arial\,sans-serif\;"><span style="font-size:12.0pt\;">7:45 a.m. &mdash\; 9:00 a.m.</span></span></strong><br />\n&nbsp\;<br />\n<span style="font-family:arial\,sans-serif\;"><span style="font-size:12.0pt\;">Hosted by</span></span><br />\n<strong><span style="font-family:arial\,sans-serif\;"><span style="font-size:12.0pt\;">&nbsp\;Futures\, Inc. / Good Cause Gifts</span></span></strong><br />\n&nbsp\;<br />\n<span style="font-family:arial\,sans-serif\;"><span style="font-size:12.0pt\;">City Updates will be given by:</span></span><br />\n<strong><span style="font-family:arial\,sans-serif\;"><span style="font-size:12.0pt\;">MAYOR DAN DREW</span></span></strong><br />\n&nbsp\;<br />\n<span style="font-family:arial\,sans-serif\;"><span style="font-size:12.0pt\;">And the following City Departments:</span></span><br />\n<strong><span style="font-family:arial\,sans-serif\;"><span style="font-size:12.0pt\;">Planning Office</span></span></strong><br />\n<strong><span style="font-family:arial\,sans-serif\;"><span style="font-size:12.0pt\;">Parking Dept. </span></span></strong><br />\n<strong><span style="font-family:arial\,sans-serif\;"><span style="font-size:12.0pt\;">Police Dept.</span></span></strong><br />\n<strong><span style="font-family:arial\,sans-serif\;"><span style="font-size:12.0pt\;">Fire Dept.</span></span></strong><br />\n<strong><span style="font-family:arial\,sans-serif\;"><span style="font-size:12.0pt\;">Recreation &amp\; Community Services Dept.</span></span></strong><br />\n<strong><span style="font-family:arial\,sans-serif\;"><span style="font-size:12.0pt\;">Public Works </span></span></strong><br />\n<strong><span style="font-family:arial\,sans-serif\;"><span style="font-size:12.0pt\;">Water &amp\; Sewer</span></span></strong><br />\n<strong><span style="font-family:arial\,sans-serif\;"><span style="font-size:12.0pt\;">Health</span></span></strong><br />\n<strong><span style="font-family:arial\,sans-serif\;"><span style="font-size:12.0pt\;">Education</span></span></strong><br />\n&nbsp\;&nbsp\;&nbsp\;&nbsp\;&nbsp\;&nbsp\;&nbsp\;&nbsp\;&nbsp\;&nbsp\;&nbsp\;&nbsp\;&nbsp\;&nbsp\;&nbsp\; &nbsp\;&nbsp\;&nbsp\;&nbsp\;&nbsp\;<br />\n<span style="font-family:arial\,sans-serif\;"><span style="font-size:12.0pt\;">Wesleyan University Update</span></span><br />\n&nbsp\;<br />\n<span style="font-family:arial\,sans-serif\;"><span style="font-size:12.0pt\;">Middlesex Community College Update</span></span><br />\n&nbsp\;<br />\n<span style="font-family:arial\,sans-serif\;"><span style="font-size:12.0pt\;">Downtown Business District Update&nbsp\; </span></span><br />\n&nbsp\;<br />\n<span style="font-family:arial\,sans-serif\;"><span style="font-size:12.0pt\;">Chamber update on special events and activities</span></span><br />\n&nbsp\;<br />\n<span style="font-family:arial\,sans-serif\;"><span style="font-size:12.0pt\;">Other Business &ndash\; </span></span><br />\n&nbsp\;<br />\n<strong><span style="font-family:arial\,sans-serif\;"><span style="font-size:12.0pt\;">Geen Thazhampallath\, Director of Middletown Parking Department\, will present a demonstration of the security cameras that have been installed to date in the Downtown!</span></span></strong><br />\n&nbsp\;<br />\n<strong><span style="font-family:arial\,sans-serif\;"><span style="font-size:12.0pt\;">32<sup>ND</sup> ANNUAL HOLIDAY ON MAIN STREET\, </span></span></strong><span style="font-family:arial\,sans-serif\;"><span style="font-size:12.0pt\;">Presented by <strong>Pratt &amp\; Whitney</strong></span></span><br />\n<span style="font-family:arial\,sans-serif\;"><span style="font-size:12.0pt\;">Begins Friday\, <strong>November 24 &ndash\; 4:00 p.m. &ndash\; 8:15 p.m.</strong></span></span><br />\n<span style="font-family:arial\,sans-serif\;"><span style="font-size:12.0pt\;">Continues Saturday\, <strong>November 25 &ndash\; 10:00 a.m. &ndash\; 2:00 p.m.</strong></span></span><br />\n<span style="font-family:arial\,sans-serif\;"><span style="font-size:12.0pt\;">Saturday\, <strong>December 2 &ndash\; 9:30 a.m. &ndash\; 2:00 p.m.</strong></span></span><br />\n<span style="font-family:arial\,sans-serif\;"><span style="font-size:12.0pt\;">Saturday\, <strong>December 9 &ndash\; 10:00 a.m. &ndash\; 2:00 p.m.</strong></span></span><br />\n<span style="font-family:arial\,sans-serif\;"><span style="font-size:12.0pt\;">Saturday\, <strong>December 16 &ndash\; 10:00 a.m. &ndash\; 2:00 p.m.</strong></span></span><br />\n&nbsp\;
LOCATION:Middlesex Chamber 393 Main Street Middletown\, CT
UID:e.1932.4654
SEQUENCE:3
DTSTAMP:20260425T013631Z
URL:https://business.middlesexchamber.com/events/details/central-business-bureau-cbb-4654
END:VEVENT

END:VCALENDAR
