BEGIN:VCALENDAR
VERSION:2.0
PRODID:-//ChamberMaster//Event Calendar 2.0//EN
METHOD:PUBLISH
X-PUBLISHED-TTL:P3D
REFRESH-INTERVAL:P3D
CALSCALE:GREGORIAN
BEGIN:VEVENT
DTSTART:20260108T130000Z
DTEND:20260108T140000Z
X-MICROSOFT-CDO-ALLDAYEVENT:FALSE
SUMMARY:Central Business Bureau (CBB)
DESCRIPTION:The Central Business Bureau (CBB) Division occurs on the first Thursday of the month (unless otherwise noted)  This division does not meet in July . Twice a year\, in November and March\, our monthly morning meetings are held during the evening and feature appetizers and networking\, with the goal of creating new connections. These events are called Division After Dark.\n\n \nJIM TRZASKI\, CHAIRMAN\n\nInvites you to\n\nTHE CENTRAL BUSINESS BUREAU MEETING\n\nTHURSDAY\, JANUARY 8\, 2026\n\n \n\nAT MIDDLETOWN CITY HALL\n\n(In the Council Chambers)\n\n245 Dekoven Drive\, Middletown\n\n7:30 a.m.   9:00 a.m.\n\n \nCity Updates will be given by:\n\n      MAYOR GENE NOCERA\n\nAnd the following City Departments:\n\n\n	Land Use Office\n	Economic & Community Development Office\n	Health Dept.\n	Police Dept.\n	Fire Dept.\n	Public Works Dept.\n	Recreation & Community Services Dept.\n	Technology Services Dept.\n	Russell Library\n\n\n \n\n\n	South Fire District Update\n	Wesleyan University Update\n	Downtown Business District Update\n	Chamber Update on Special Events and Activities\n	40th Annual Holiday On Main Street presents "Magic of Middletown Wrap-Up\n\n\n\n	A complimentary continental breakfast will be available\, courtesy of Mayor Gene Nocera from 7:30   8:00 a.m. & Networking with Members!\n\n\nIt is important to REGISTER FOR THIS MEETING\, as the Host needs to know how much food to provide and for seating purposes.  Thank you!
X-ALT-DESC;FMTTYPE=text/html:The Central Business Bureau (CBB) Division occurs on the first Thursday of the month (unless otherwise noted)&nbsp\; This division does not meet in July . Twice a year\, in November and March\, our monthly morning meetings are held during the evening and feature appetizers and networking\, with the goal of creating new connections. These events are called Division After Dark.<br />\n&nbsp\;\n<div style="text-align: center\;"><span style="font-size:14px\;"><span style="font-family:arial\;"><strong>JIM TRZASKI\, CHAIRMAN<br />\nInvites you to<br />\nTHE CENTRAL BUSINESS BUREAU MEETING</strong><br />\n<strong>THURSDAY\, <span style="color:red\;">JANUARY 8\, 2026</span></strong><br />\n&nbsp\;<br />\n<strong>AT <span style="color:red\;">MIDDLETOWN CITY HALL</span></strong><br />\n<strong>(In the Council Chambers)</strong><br />\n<strong>245 Dekoven Drive\, Middletown</strong><br />\n<strong><span style="color:black\;">7:30 a.m. &ndash\; 9:00 a.m.</span></strong><br />\n&nbsp\;</span></span>\n<div style="text-align: left\;"><span style="font-size:14px\;"><span style="font-family:arial\;">City Updates will be given by:<br />\n&nbsp\;&nbsp\;&nbsp\;&nbsp\;&nbsp\; <strong>MAYOR GENE NOCERA</strong><br />\n<span style="color:#222222\;">And the following City Departments:</span></span></span></div>\n\n<ul>\n	<li style="background: white\; text-align: left\;"><span style="font-size:14px\;"><span style="font-family:arial\;"><strong><span style="color:#222222\;">Land Use Office</span></strong></span></span></li>\n	<li style="background: white\; text-align: left\;"><span style="font-size:14px\;"><span style="font-family:arial\;"><strong><span style="color:#222222\;">Economic &amp\; Community Development Office</span></strong></span></span></li>\n	<li style="background: white\; text-align: left\;"><span style="font-size:14px\;"><span style="font-family:arial\;"><strong><span style="color:#222222\;">Health Dept.</span></strong></span></span></li>\n	<li style="background: white\; text-align: left\;"><span style="font-size:14px\;"><span style="font-family:arial\;"><strong><span style="color:#222222\;">Police Dept.</span></strong></span></span></li>\n	<li style="background: white\; text-align: left\;"><span style="font-size:14px\;"><span style="font-family:arial\;"><strong><span style="color:#222222\;">Fire Dept.</span></strong></span></span></li>\n	<li style="background: white\; text-align: left\;"><span style="font-size:14px\;"><span style="font-family:arial\;"><strong><span style="color:#222222\;">Public Works Dept.</span></strong></span></span></li>\n	<li style="background: white\; text-align: left\;"><span style="font-size:14px\;"><span style="font-family:arial\;"><strong><span style="color:#222222\;">Recreation &amp\; Community Services Dept.</span></strong></span></span></li>\n	<li style="background: white\; text-align: left\;"><span style="font-size:14px\;"><span style="font-family:arial\;"><strong><span style="color:#222222\;">Technology Services Dept.</span></strong></span></span></li>\n	<li style="background: white\; text-align: left\;"><span style="font-size:14px\;"><span style="font-family:arial\;"><strong><span style="color:#222222\;">Russell Library</span></strong></span></span></li>\n</ul>\n\n<div style="background: white\; text-align: left\;">&nbsp\;</div>\n\n<ul>\n	<li style="background: white\; text-align: left\;"><span style="font-size:14px\;"><span style="font-family:arial\;"><strong><span style="color:#333333\;">South Fire District Update</span></strong></span></span></li>\n	<li style="background: white\; text-align: left\;"><span style="font-size:14px\;"><span style="font-family:arial\;"><strong><span style="color:#333333\;">Wesleyan University Update</span></strong></span></span></li>\n	<li style="background: white\; text-align: left\;"><span style="font-size:14px\;"><span style="font-family:arial\;"><strong><span style="color:#333333\;">Downtown Business District Update</span></strong></span></span></li>\n	<li style="background: white\; text-align: left\;"><span style="font-size:14px\;"><span style="font-family:arial\;"><strong><span style="color:#333333\;">Chamber Update on Special Events and Activities</span></strong></span></span></li>\n	<li style="background: white\; text-align: left\;"><strong><span style="font-size:14px\;"><span style="font-family:arial\;"><span style="color:black\;">40<sup>th</sup> Annual Holiday On Main Street presents</span> <span style="color:black\;">&ldquo\;Magic of Middletown Wrap-Up</span></span></span></strong></li>\n</ul>\n\n<ul>\n	<li style="text-align: left\;"><span style="font-size:14px\;"><span style="font-family:arial\;"><strong>A complimentary continental breakfast will be available</strong>\, courtesy of <em>Mayor Gene Nocera </em>from <strong>7:30 &ndash\; 8:00 a.m. &amp\; Networking with Members!</strong></span></span></li>\n</ul>\n\n<div style="text-align: left\;"><span style="font-size:14px\;"><span style="font-family:arial\;"><span style="color:#333333\;">It is important to <strong>REGISTER FOR THIS MEETING</strong>\, as the Host needs to know how much food to provide and for seating purposes.&nbsp\; Thank you!</span></span></span></div>\n&nbsp\;<br />\n&nbsp\;</div>\n
LOCATION:
UID:e.1932.34549
SEQUENCE:3
DTSTAMP:20260424T181409Z
URL:https://business.middlesexchamber.com/events/details/central-business-bureau-cbb-34549
END:VEVENT

END:VCALENDAR
