BEGIN:VCALENDAR
VERSION:2.0
PRODID:-//ChamberMaster//Event Calendar 2.0//EN
METHOD:PUBLISH
X-PUBLISHED-TTL:P3D
REFRESH-INTERVAL:P3D
CALSCALE:GREGORIAN
BEGIN:VEVENT
DTSTART:20201105T130000Z
DTEND:20201105T140000Z
X-MICROSOFT-CDO-ALLDAYEVENT:FALSE
SUMMARY:Central Business Bureau (CBB)
DESCRIPTION:Representatives from the Connecticut Department of Transportation and Mohawk Northeast\, Inc. will provide updates on the rehabilitation of the Arrigoni Bridge approach spans and with the Saint John's Square / Main Street intersection operational improvement project in Middletown.\n\n	City Updates will be given by:\n\n      MAYOR BEN FLORSHEIM\n\nAnd the following City Departments:\n\n\n	Health Dept.\n	Planning Office \n	Police Dept.\n	Fire Dept.\n	Public Works\n	Parking Dept. \n	Recreation & Community Services Dept.\n	Technology Services Dept.\n	Russell Library\n\n                      \n\n\n	Wesleyan University Update\n\n \n\n\n	Downtown Business District Update\n\n \n\n\n	Chamber update on special events and activities\n\n \n\n\n	Other Business   \n\n\n\n	35th Annual Holiday On Main Street\, Magic of Middletown!
X-ALT-DESC;FMTTYPE=text/html:<strong><span style="font-family:arial\,sans-serif\;"><span style="font-size:12.0pt\;">Representatives from the Connecticut Department of Transportation and Mohawk Northeast\, Inc.</span></span></strong><span style="font-family:arial\,sans-serif\;"><span style="font-size:12.0pt\;"> will provide updates on<strong> the rehabilitation of the Arrigoni Bridge approach spans </strong>and with the<strong> Saint John&rsquo\;s Square / Main Street intersection operational improvement project in Middletown.</strong></span></span>\n<ul>\n	<li style="margin-bottom:0in\;margin-bottom:.0001pt\;line-height:normal\;"><span style="font-family:arial\,sans-serif\;"><span style="font-size:12.0pt\;">City Updates will be given by:</span></span></li>\n</ul>\n<strong><span style="font-family:arial\,sans-serif\;"><span style="font-size:12.0pt\;">&nbsp\;&nbsp\;&nbsp\;&nbsp\;&nbsp\; MAYOR BEN FLORSHEIM</span></span></strong><br />\n<span style="font-family:arial\,sans-serif\;"><span style="font-size:12.0pt\;">And the following City Departments:</span></span>\n\n<ul style="list-style-type:circle\;">\n	<li style="margin-top:0in\;margin-right:0in\;margin-bottom:0in\;margin-bottom:.0001pt\;"><strong><span style="font-family:arial\,sans-serif\;"><span style="font-size:12.0pt\;">Health Dept.</span></span></strong></li>\n	<li style="margin-top:0in\;margin-right:0in\;margin-bottom:0in\;margin-bottom:.0001pt\;"><strong><span style="font-family:arial\,sans-serif\;"><span style="font-size:12.0pt\;">Planning Office </span></span></strong></li>\n	<li style="margin-top:0in\;margin-right:0in\;margin-bottom:0in\;margin-bottom:.0001pt\;"><strong><span style="font-family:arial\,sans-serif\;"><span style="font-size:12.0pt\;">Police Dept.</span></span></strong></li>\n	<li style="margin-top:0in\;margin-right:0in\;margin-bottom:0in\;margin-bottom:.0001pt\;"><strong><span style="font-family:arial\,sans-serif\;"><span style="font-size:12.0pt\;">Fire Dept.</span></span></strong></li>\n	<li style="margin-top:0in\;margin-right:0in\;margin-bottom:0in\;margin-bottom:.0001pt\;"><strong><span style="font-family:arial\,sans-serif\;"><span style="font-size:12.0pt\;">Public Works</span></span></strong></li>\n	<li style="margin-top:0in\;margin-right:0in\;margin-bottom:0in\;margin-bottom:.0001pt\;"><strong><span style="font-family:arial\,sans-serif\;"><span style="font-size:12.0pt\;">Parking Dept. </span></span></strong></li>\n	<li style="margin-top:0in\;margin-right:0in\;margin-bottom:0in\;margin-bottom:.0001pt\;"><strong><span style="font-family:arial\,sans-serif\;"><span style="font-size:12.0pt\;">Recreation &amp\; Community Services Dept.</span></span></strong></li>\n	<li style="margin-top:0in\;margin-right:0in\;margin-bottom:0in\;margin-bottom:.0001pt\;"><strong><span style="font-family:arial\,sans-serif\;"><span style="font-size:12.0pt\;">Technology Services Dept.</span></span></strong></li>\n	<li style="margin-top:0in\;margin-right:0in\;margin-bottom:0in\;margin-bottom:.0001pt\;"><strong><span style="font-family:arial\,sans-serif\;"><span style="font-size:12.0pt\;">Russell Library</span></span></strong></li>\n</ul>\n<span style="font-family:times new roman\,serif\;"><span style="font-size:10.0pt\;">&nbsp\;&nbsp\;&nbsp\;&nbsp\;&nbsp\;&nbsp\;&nbsp\;&nbsp\;&nbsp\;&nbsp\;&nbsp\;&nbsp\;&nbsp\;&nbsp\;&nbsp\; &nbsp\;&nbsp\;&nbsp\;&nbsp\;&nbsp\; </span></span>\n\n<ul style="list-style-type:circle\;">\n	<li style="margin-top:0in\;margin-right:0in\;margin-bottom:0in\;margin-bottom:.0001pt\;"><span style="font-family:arial\,sans-serif\;"><span style="font-size:12.0pt\;">Wesleyan University Update</span></span></li>\n</ul>\n&nbsp\;\n\n<ul style="list-style-type:circle\;">\n	<li style="margin-top:0in\;margin-right:0in\;margin-bottom:0in\;margin-bottom:.0001pt\;"><span style="font-family:arial\,sans-serif\;"><span style="font-size:12.0pt\;">Downtown Business District Update</span></span></li>\n</ul>\n&nbsp\;\n\n<ul style="list-style-type:circle\;">\n	<li style="margin-top:0in\;margin-right:0in\;margin-bottom:0in\;margin-bottom:.0001pt\;"><span style="font-family:arial\,sans-serif\;"><span style="font-size:12.0pt\;">Chamber update on special events and activities</span></span></li>\n</ul>\n&nbsp\;\n\n<ul style="list-style-type:circle\;">\n	<li style="margin-top:0in\;margin-right:0in\;margin-bottom:0in\;margin-bottom:.0001pt\;"><span style="font-family:arial\,sans-serif\;"><span style="font-size:12.0pt\;">Other Business &ndash\; </span></span></li>\n</ul>\n\n<ul>\n	<li><strong><span style="font-family:arial\,sans-serif\;"><span style="font-size:12.0pt\;">35<sup>th</sup> Annual Holiday On Main Street\, Magic of Middletown!</span></span></strong></li>\n</ul>\n
LOCATION:Meeting conducted via Zoom. Dial in by phone or join with your computer.
UID:e.1932.19547
SEQUENCE:3
DTSTAMP:20260421T044344Z
URL:https://business.middlesexchamber.com/events/details/central-business-bureau-cbb-19547
END:VEVENT

END:VCALENDAR
