BEGIN:VCALENDAR
VERSION:2.0
PRODID:-//ChamberMaster//Event Calendar 2.0//EN
METHOD:PUBLISH
X-PUBLISHED-TTL:P3D
REFRESH-INTERVAL:P3D
CALSCALE:GREGORIAN
BEGIN:VEVENT
DTSTART:20201001T120000Z
DTEND:20201001T130000Z
X-MICROSOFT-CDO-ALLDAYEVENT:FALSE
SUMMARY:Central Business Bureau (CBB)
DESCRIPTION:Representatives from the Connecticut Department of Transportation and Mohawk Northeast\, Inc. will provide updates on the rehabilitation of the Arrigoni Bridge approach spans and with the Saint John's Square / Main Street intersection operational improvement project. \n\n\n\nThe meeting will feature a presentation from Mayor Ben Florsheim and the city's Director of Planning\, Conservation and Development\, Joe Samolis\, on the $55\,000\,000 21st Century Infrastructure Development Bond Program that will appear before Middletown voters as a referendum question on November 3\, 2020. This will be the main agenda item of the meeting. \n\n\n\nImportant City Updates will be given as time allows! \n\n\n\nChamber update on special events and activities
X-ALT-DESC;FMTTYPE=text/html:<br />\n<span style="font-family:arial\,sans-serif\;"><span style="font-size:12.0pt\;">Representatives from the Connecticut Department of Transportation and Mohawk Northeast\, Inc. will provide updates on the rehabilitation of the Arrigoni Bridge approach spans and with the Saint John&rsquo\;s Square / Main Street intersection operational improvement project.</span></span>&nbsp\;<br />\n<br />\n<span style="font-family:arial\,sans-serif\;"><span style="font-size:12.0pt\;">The meeting will feature a presentation from Mayor Ben Florsheim and the city&rsquo\;s Director of Planning\, Conservation and Development\, Joe Samolis\, on the $55\,000\,000 21st Century Infrastructure Development Bond Program that will appear before Middletown voters as a referendum question on November 3\, 2020. This will be the main agenda item of the meeting.</span></span>&nbsp\;<br />\n<br />\n<span style="font-family:arial\,sans-serif\;"><span style="font-size:12.0pt\;">Important City Updates will be given as time allows!</span></span>&nbsp\;<br />\n<br />\n<span style="font-family:arial\,sans-serif\;"><span style="font-size:12.0pt\;">Chamber update on special events and activities</span></span>
LOCATION:Meeting conducted via Zoom. Dial in by phone or join with your computer.
UID:e.1932.19276
SEQUENCE:3
DTSTAMP:20260421T033023Z
URL:https://business.middlesexchamber.com/events/details/central-business-bureau-cbb-19276
END:VEVENT

END:VCALENDAR
