BEGIN:VCALENDAR
VERSION:2.0
PRODID:-//ChamberMaster//Event Calendar 2.0//EN
METHOD:PUBLISH
X-PUBLISHED-TTL:P3D
REFRESH-INTERVAL:P3D
CALSCALE:GREGORIAN
BEGIN:VEVENT
DTSTART:20211104T120000Z
DTEND:20211104T130000Z
X-MICROSOFT-CDO-ALLDAYEVENT:FALSE
SUMMARY:Central Business Bureau (CBB)
DESCRIPTION:Representatives from the Connecticut Department of Transportation and Mohawk Northeast\, Inc. will provide updates on the Arrigoni Bridge and Saint John's Square Main Street intersection projects.\n\nCity Updates will be given by:\n\n      MAYOR BEN FLORSHEIM\n\nAnd the following City Departments:\n\n	Health Dept.\n	Planning Office\n	Police Dept.\n	Fire Dept.\n	Public Works\n	Parking Dept.\n	Recreation & Community Services Dept.\n	Technology Services Dept.\n	Russell Library\n\n\n \n\n\n	Wesleyan University Update\n	Downtown Business District Update\n	Holiday On Main Street presents The Magic of Middletown 2021 Update\n	Chamber update on special events and activities
X-ALT-DESC;FMTTYPE=text/html:<span style="font-family:arial\,sans-serif\;"><span style="font-size:10.5pt\;">&nbsp\;<strong>Representatives from the Connecticut Department of Transportation and Mohawk Northeast\, Inc.</strong>&nbsp\;will provide updates on the<strong>&nbsp\;Arrigoni Bridge&nbsp\;</strong>and<strong>&nbsp\;Saint John&rsquo\;s Square Main Street intersection projects.</strong></span></span><br />\n<span style="font-family:arial\,sans-serif\;"><span style="font-size:10.5pt\;">City Updates will be given by:<br />\n<strong>&nbsp\;&nbsp\;&nbsp\;&nbsp\;&nbsp\; MAYOR BEN FLORSHEIM</strong><br />\nAnd the following City Departments:</span></span>\n<ul>\n	<li style="margin-bottom:0in\;margin-bottom:.0001pt\;line-height:normal\;"><strong><span style="font-family:arial\,sans-serif\;"><span style="font-size:10.5pt\;">Health Dept.</span></span></strong></li>\n	<li style="margin-bottom:0in\;margin-bottom:.0001pt\;line-height:normal\;"><strong><span style="font-family:arial\,sans-serif\;"><span style="font-size:10.5pt\;">Planning Office</span></span></strong></li>\n	<li style="margin-bottom:0in\;margin-bottom:.0001pt\;line-height:normal\;"><strong><span style="font-family:arial\,sans-serif\;"><span style="font-size:10.5pt\;">Police Dept.</span></span></strong></li>\n	<li style="margin-bottom:0in\;margin-bottom:.0001pt\;line-height:normal\;"><strong><span style="font-family:arial\,sans-serif\;"><span style="font-size:10.5pt\;">Fire Dept.</span></span></strong></li>\n	<li style="margin-bottom:0in\;margin-bottom:.0001pt\;line-height:normal\;"><strong><span style="font-family:arial\,sans-serif\;"><span style="font-size:10.5pt\;">Public Works</span></span></strong></li>\n	<li style="margin-bottom:0in\;margin-bottom:.0001pt\;line-height:normal\;"><strong><span style="font-family:arial\,sans-serif\;"><span style="font-size:10.5pt\;">Parking Dept.</span></span></strong></li>\n	<li style="margin-bottom:0in\;margin-bottom:.0001pt\;line-height:normal\;"><strong><span style="font-family:arial\,sans-serif\;"><span style="font-size:10.5pt\;">Recreation &amp\; Community Services Dept.</span></span></strong></li>\n	<li style="margin-bottom:0in\;margin-bottom:.0001pt\;line-height:normal\;"><strong><span style="font-family:arial\,sans-serif\;"><span style="font-size:10.5pt\;">Technology Services Dept.</span></span></strong></li>\n	<li style="margin-bottom:0in\;margin-bottom:.0001pt\;line-height:normal\;"><strong><span style="font-family:arial\,sans-serif\;"><span style="font-size:10.5pt\;">Russell Library</span></span></strong></li>\n</ul>\n\n<div style="margin-bottom:0in\;margin-bottom:.0001pt\;line-height:normal\;">&nbsp\;</div>\n\n<ul>\n	<li style="color:#333333\;margin-bottom:0in\;margin-bottom:.0001pt\;line-height:normal\;"><strong><span style="font-family:arial\,sans-serif\;"><span style="font-size:10.5pt\;">Wesleyan University Update</span></span></strong></li>\n	<li style="color:#333333\;margin-bottom:0in\;margin-bottom:.0001pt\;line-height:normal\;"><strong><span style="font-family:arial\,sans-serif\;"><span style="font-size:10.5pt\;">Downtown Business District Update</span></span></strong></li>\n	<li style="color:#333333\;margin-bottom:0in\;margin-bottom:.0001pt\;line-height:normal\;"><strong><span style="font-family:arial\,sans-serif\;"><span style="font-size:10.5pt\;">Holiday On Main Street presents The Magic of Middletown 2021 Update</span></span></strong></li>\n	<li style="color:#333333\;margin-bottom:0in\;margin-bottom:.0001pt\;line-height:normal\;"><strong><span style="font-family:arial\,sans-serif\;"><span style="font-size:10.5pt\;">Chamber update on special events and activities&nbsp\;</span></span></strong></li>\n</ul>\n
LOCATION:Meeting conducted via Zoom. Dial in by phone or join with your computer.
UID:e.1932.20412
SEQUENCE:3
DTSTAMP:20260421T083855Z
URL:https://business.middlesexchamber.com/events/details/central-business-bureau-cbb-11-04-2021-20412
END:VEVENT

END:VCALENDAR
