BEGIN:VCALENDAR
VERSION:2.0
PRODID:-//ChamberMaster//Event Calendar 2.0//EN
METHOD:PUBLISH
X-PUBLISHED-TTL:P3D
REFRESH-INTERVAL:P3D
CALSCALE:GREGORIAN
BEGIN:VEVENT
DTSTART:20251002T120000Z
DTEND:20251002T130000Z
X-MICROSOFT-CDO-ALLDAYEVENT:FALSE
SUMMARY:Central Business Bureau (CBB)
DESCRIPTION:Meetings occur on the first Thursday of each month at 8:00 a.m. During the meetings\, there are City local updates\, as well as information about upcoming events.\n\n\n\nPLEASE NOTE: \n\nEntrance for the meeting will be on COURT STREET STAFF ENTRANCE and there will be signage directing the way.\n\n \n\nPARKING is available in the usual parking lots in the area\, as well as on-street parking along Court\, Broad and Pearl Streets.\n\n \n\nDO NOT PARK IN THE  LIBRARY STAFF PARKING LOT ON COURT STREET!\n\n \nJIM TRZASKI\, CHAIRMAN\n\nInvites you to\n\nTHE CENTRAL BUSINESS BUREAU MEETING\n\nTHURSDAY\, OCTOBER 2\, 2025\n\n \n\nAT THE RUSSELL LIBRARY\n\n123 Broad Street\, Middletown\n\n7:30 a.m.   9:00 a.m.\nCandidates for the upcoming Mayoral Election have been invited to Introduce themselves and talk about their campaigns\, with a time limit of five minutes each.  This is a Forum\, rather than a debate\, which is designed to connect the Candidates to the Business Community. \n\nThe Candidates for Mayor are:\n\n\n	Acting Mayor\, Gene Nocera (D)\n	Seb Giuliano (R)\n\nThere will be Q & A as time allows.\n\n\n\nHear Important Updates from Town Officials and others as time allows!\n\nMiddlesex Chamber Update on upcoming meetings & events\n\nA complimentary continental breakfast will be available\, courtesy of the Russell Library from 7:30   8:00 a.m. & Networking with Members!
X-ALT-DESC;FMTTYPE=text/html:Meetings occur on the first Thursday of each month at 8:00 a.m. During the meetings\, there are City local updates\, as well as information about upcoming events.<br />\n<br />\n<span style="font-size:14px\;"><span style="font-family:arial\;"><strong>PLEASE NOTE: </strong><br />\n<strong>Entrance for the meeting will be on COURT STREET STAFF ENTRANCE and there will be signage directing the way.</strong><br />\n&nbsp\;<br />\n<strong>PARKING is available in the usual parking lots in the area\, as well as on-street parking along Court\, Broad and Pearl Streets.</strong><br />\n&nbsp\;<br />\n<strong><em>DO NOT PARK IN THE &nbsp\;LIBRARY STAFF PARKING LOT ON COURT STREET!</em></strong><br />\n&nbsp\;</span></span>\n<div style="text-align: center\;"><span style="font-size:14px\;"><span style="font-family:arial\;"><strong>JIM TRZASKI\, CHAIRMAN<br />\nInvites you to<br />\nTHE CENTRAL BUSINESS BUREAU MEETING</strong><br />\n<strong>THURSDAY\, <span style="color:red\;">OCTOBER 2\, 2025</span></strong><br />\n&nbsp\;<br />\n<strong>AT <span style="color:red\;">THE RUSSELL LIBRARY</span></strong><br />\n<strong>123 Broad Street\, Middletown</strong></span></span></div>\n\n<div style="text-align: center\;"><span style="font-size:14px\;"><span style="font-family:arial\;"><strong><span style="color:black\;">7:30 a.m. &ndash\; 9:00 a.m.</span></strong></span></span></div>\n<span style="font-size:14px\;"><span style="font-family:arial\;">Candidates for the upcoming Mayoral Election have been invited to Introduce themselves and talk about their campaigns\, with a time limit of five minutes each.&nbsp\; This is a Forum\, rather than a debate\, which is designed to connect the Candidates to the Business Community.&nbsp\;<br />\n<strong><u>The Candidates for Mayor are:</u></strong></span></span>\n\n<ul>\n	<li><span style="font-size:14px\;"><span style="font-family:arial\;"><strong>Acting Mayor\, Gene Nocera (D)</strong></span></span></li>\n	<li><span style="font-size:14px\;"><span style="font-family:arial\;"><strong>Seb Giuliano (R)</strong></span></span></li>\n</ul>\n<span style="font-size:14px\;"><span style="font-family:arial\;"><strong>There will be Q &amp\; A as time allows.</strong><br />\n<br />\nHear Important Updates from Town Officials and others as time allows!<br />\n<strong>Middlesex Chamber Update </strong>on upcoming meetings &amp\; events<br />\n<strong>A complimentary continental breakfast will be available</strong>\, courtesy of <strong><em>the Russell Library </em></strong>from <strong>7:30 &ndash\; 8:00 a.m. &amp\; Networking with Members!</strong></span></span><br />\n&nbsp\;
LOCATION:Russell Library Hubbard Room 123 Broad Street Middletown\, CT
UID:e.1932.30271
SEQUENCE:3
DTSTAMP:20260424T213247Z
URL:https://business.middlesexchamber.com/events/details/central-business-bureau-cbb-10-02-2025-30271
END:VEVENT

END:VCALENDAR
