BEGIN:VCALENDAR
VERSION:2.0
PRODID:-//ChamberMaster//Event Calendar 2.0//EN
METHOD:PUBLISH
X-PUBLISHED-TTL:P3D
REFRESH-INTERVAL:P3D
CALSCALE:GREGORIAN
BEGIN:VEVENT
DTSTART:20250904T120000Z
DTEND:20250904T130000Z
X-MICROSOFT-CDO-ALLDAYEVENT:FALSE
SUMMARY:Central Business Bureau (CBB)
DESCRIPTION:Meetings occur on the first Thursday of each month at 8:00 a.m. During the meetings\, there are City local updates\, as well as information about upcoming events.\n\n\nJIM TRZASKI\, CHAIRMAN\n\nInvites you to\n\nTHE CENTRAL BUSINESS BUREAU MEETING\n\nTHURSDAY\, SEPTEMBER 4\, 2025\n\n \n\nAT THE CHURCH OF THE HOLY TRINITY\n\n381 Main Street\, Middletown\n\n(Entrance will be thru the red double doors on the South Side\, \n\nfacing Webster Bank  - there will be signage) \n\n7:30 a.m.   9:00 a.m. \nCity Updates will be given by:\n\n      ACTING MAYOR GENE NOCERA\n\nAnd the following City Departments:\n\n\n	Land Use Office\n	Economic & Community Development Office\n	Health Dept.\n	Police Dept.\n	Fire Dept.\n	Public Works Dept.\n	Recreation & Community Services Dept.\n	Technology Services Dept.\n	Russell Library\n\n\n \n\n\n	South Fire District Update\n	Wesleyan University Update\n	Downtown Business District Update\n	Chamber Update on Special Events and Activities\n\n\nA complimentary continental breakfast will be available\, courtesy of Holy Trinity Church from 7:30   8:00 a.m. & Networking with Members! \n\n\n\nIt is important to REGISTER FOR THIS MEETING\, as the Host needs to know how much food to provide and for seating purposes.  Thank you!
X-ALT-DESC;FMTTYPE=text/html:<span style="font-size:14px\;">Meetings occur on the first Thursday of each month at 8:00 a.m. During the meetings\, there are City local updates\, as well as information about upcoming events.</span>\n<div style="text-align: center\;"><br />\n<span style="font-size:14px\;"><strong><span style="font-family:arial\,sans-serif\;">JIM TRZASKI\, CHAIRMAN<br />\nInvites you to<br />\nTHE CENTRAL BUSINESS BUREAU MEETING</span></strong><br />\n<strong><span style="font-family:arial\,sans-serif\;">THURSDAY\, <span style="color:red\;">SEPTEMBER 4\, 2025</span></span></strong><br />\n&nbsp\;<br />\n<strong><span style="font-family:arial\,sans-serif\;">AT <span style="color:red\;">THE CHURCH OF THE HOLY TRINITY</span></span></strong><br />\n<strong><span style="font-family:arial\,sans-serif\;">381 Main Street\, Middletown</span></strong><br />\n<strong><span style="font-family:arial\,sans-serif\;">(Entrance will be thru the red double doors on the South Side\, </span></strong><br />\n<strong><span style="font-family:arial\,sans-serif\;">facing Webster Bank&nbsp\; - there will be signage)</span></strong>&nbsp\;<br />\n<strong><span style="color:black\;"><span style="font-family:arial\,sans-serif\;">7:30 a.m. &ndash\; 9:00 a.m.</span></span></strong>&nbsp\;</span>\n<div style="text-align: left\;"><span style="font-size:14px\;"><span style="font-family:arial\,sans-serif\;">City Updates will be given by:</span><br />\n<span style="font-family:arial\,sans-serif\;">&nbsp\;&nbsp\;&nbsp\;&nbsp\;&nbsp\; ACTING <strong>MAYOR GENE NOCERA</strong><br />\n<span style="color:#222222\;">And the following City Departments:</span></span></span></div>\n\n<ul>\n	<li style="background: white\; text-align: left\;"><span style="font-size:14px\;"><strong><span style="color:#222222\;"><span style="font-family:arial\,sans-serif\;">Land Use Office</span></span></strong></span></li>\n	<li style="background: white\; text-align: left\;"><span style="font-size:14px\;"><strong><span style="color:#222222\;"><span style="font-family:arial\,sans-serif\;">Economic &amp\; Community Development Office</span></span></strong></span></li>\n	<li style="background: white\; text-align: left\;"><span style="font-size:14px\;"><strong><span style="color:#222222\;"><span style="font-family:arial\,sans-serif\;">Health Dept.</span></span></strong></span></li>\n	<li style="background: white\; text-align: left\;"><span style="font-size:14px\;"><strong><span style="color:#222222\;"><span style="font-family:arial\,sans-serif\;">Police Dept.</span></span></strong></span></li>\n	<li style="background: white\; text-align: left\;"><span style="font-size:14px\;"><strong><span style="color:#222222\;"><span style="font-family:arial\,sans-serif\;">Fire Dept.</span></span></strong></span></li>\n	<li style="background: white\; text-align: left\;"><span style="font-size:14px\;"><strong><span style="color:#222222\;"><span style="font-family:arial\,sans-serif\;">Public Works Dept.</span></span></strong></span></li>\n	<li style="background: white\; text-align: left\;"><span style="font-size:14px\;"><strong><span style="color:#222222\;"><span style="font-family:arial\,sans-serif\;">Recreation &amp\; Community Services Dept.</span></span></strong></span></li>\n	<li style="background: white\; text-align: left\;"><span style="font-size:14px\;"><strong><span style="color:#222222\;"><span style="font-family:arial\,sans-serif\;">Technology Services Dept.</span></span></strong></span></li>\n	<li style="background: white\; text-align: left\;"><span style="font-size:14px\;"><strong><span style="color:#222222\;"><span style="font-family:arial\,sans-serif\;">Russell Library</span></span></strong></span></li>\n</ul>\n\n<div style="text-align: left\;"><span style="font-size:14px\;">&nbsp\;</span></div>\n\n<ul>\n	<li style="background: white\; text-align: left\;"><span style="font-size:14px\;"><strong><span style="color:#333333\;"><span style="font-family:arial\,sans-serif\;">South Fire District Update</span></span></strong></span></li>\n	<li style="background: white\; text-align: left\;"><span style="font-size:14px\;"><strong><span style="color:#333333\;"><span style="font-family:arial\,sans-serif\;">Wesleyan University Update</span></span></strong></span></li>\n	<li style="background: white\; text-align: left\;"><span style="font-size:14px\;"><strong><span style="color:#333333\;"><span style="font-family:arial\,sans-serif\;">Downtown Business District Update</span></span></strong></span></li>\n	<li style="background: white\; text-align: left\;"><span style="font-size:14px\;"><strong><span style="color:#333333\;"><span style="font-family:arial\,sans-serif\;">Chamber Update on Special Events and Activities</span></span></strong></span></li>\n</ul>\n\n<div style="background: white\; text-align: left\;"><span style="font-size:14px\;"><strong><span style="font-family:arial\,sans-serif\;">A complimentary continental breakfast will be available</span></strong><span style="font-family:arial\,sans-serif\;">\, courtesy of <strong><em>Holy Trinity Church</em></strong> from <strong>7:30 &ndash\; 8:00 a.m. &amp\; Networking with Members!<span style="font-size:14px\;"><span style="font-size:14px\;">&nbsp\;</span></span></strong></span></span></div>\n\n<div style="text-align: left\;"><br />\n<span style="font-size:14px\;"><span style="color:#333333\;"><span style="font-family:arial\,sans-serif\;">It is important to <strong>REGISTER FOR THIS MEETING</strong>\, as the Host needs to know how much food to provide and for seating purposes.&nbsp\; Thank you!</span></span></span></div>\n&nbsp\;<br />\n&nbsp\;</div>\n
LOCATION:The Church of the Holy Trinity 381 Main Street Middletown\, CT
UID:e.1932.30270
SEQUENCE:3
DTSTAMP:20260424T224331Z
URL:https://business.middlesexchamber.com/events/details/central-business-bureau-cbb-09-04-2025-30270
END:VEVENT

END:VCALENDAR
