BEGIN:VCALENDAR
VERSION:2.0
PRODID:-//ChamberMaster//Event Calendar 2.0//EN
METHOD:PUBLISH
X-PUBLISHED-TTL:P3D
REFRESH-INTERVAL:P3D
CALSCALE:GREGORIAN
BEGIN:VEVENT
DTSTART:20260507T120000Z
DTEND:20260507T130000Z
X-MICROSOFT-CDO-ALLDAYEVENT:FALSE
SUMMARY:Central Business Bureau (CBB)
DESCRIPTION:The Chamber has eight geographically based divisions which meet on a monthly basis throughout Middlesex County. These divisions focus on local economic development issues and each meeting features an update from local municipal officials. \n\n\n\nThe Central Business Bureau (CBB) Division occurs on the first Thursday of the month (unless otherwise noted)  This division does not meet in the Summer months of July and August. Twice a year\, in November and March\, our monthly morning meetings are held during the evening and feature appetizers and networking\, with the goal of creating new connections. These events are called Division After Dark.
X-ALT-DESC;FMTTYPE=text/html:The Chamber has eight geographically based divisions which meet on a monthly basis throughout Middlesex County. These divisions focus on local economic development issues and each meeting features an update from local municipal officials.&nbsp\;<br />\n<br />\nThe Central Business Bureau (CBB) Division occurs on the first Thursday of the month (unless otherwise noted)&nbsp\; This division does not meet in the Summer months of July and August. Twice a year\, in November and March\, our monthly morning meetings are held during the evening and feature appetizers and networking\, with the goal of creating new connections. These events are called Division After Dark.
LOCATION:
UID:e.1932.34515
SEQUENCE:3
DTSTAMP:20260424T142940Z
URL:https://business.middlesexchamber.com/events/details/central-business-bureau-cbb-05-07-2026-34515
END:VEVENT

END:VCALENDAR
