BEGIN:VCALENDAR
VERSION:2.0
PRODID:-//ChamberMaster//Event Calendar 2.0//EN
METHOD:PUBLISH
X-PUBLISHED-TTL:P3D
REFRESH-INTERVAL:P3D
CALSCALE:GREGORIAN
BEGIN:VEVENT
DTSTART:20230216T223000Z
DTEND:20230217T011500Z
X-MICROSOFT-CDO-ALLDAYEVENT:FALSE
SUMMARY:Celebrating Black History Month through the Power of Love
DESCRIPTION:Join us for TV One's celebration of "The Power of Love" during Black History Month.\n\n \n\nIn partnership with Comcast\, NBC CT and The Amistad Center for Art & Culture\, we bring you a special screening of TV One's new dating series "Asking For A Friend" .\n\n \n\nEnjoy food and drink\, raffle prizes and the fellowship of community along with smooth jazz performed by the The Michael Carabello Trio.
X-ALT-DESC;FMTTYPE=text/html:<p style="margin: 0px\; padding: 0px\; box-sizing: border-box\; color: rgb(111\, 114\, 135)\; font-size: 16px\; line-height: 1.5rem\; font-family: &quot\;Neue Plak&quot\;\, -apple-system\, BlinkMacSystemFont\, Roboto\, &quot\;Helvetica Neue&quot\;\, Helvetica\, Tahoma\, Arial\, sans-serif\;">Join us for TV One&#39\;s celebration of &quot\;The Power of Love&quot\; during Black History Month.</p>\n\n<p style="margin: 0px\; padding: 10px 0px 0px\; box-sizing: border-box\; color: rgb(111\, 114\, 135)\; font-size: 16px\; line-height: 1.5rem\; font-family: &quot\;Neue Plak&quot\;\, -apple-system\, BlinkMacSystemFont\, Roboto\, &quot\;Helvetica Neue&quot\;\, Helvetica\, Tahoma\, Arial\, sans-serif\;">&nbsp\;</p>\n\n<p style="margin: 0px\; padding: 10px 0px 0px\; box-sizing: border-box\; color: rgb(111\, 114\, 135)\; font-size: 16px\; line-height: 1.5rem\; font-family: &quot\;Neue Plak&quot\;\, -apple-system\, BlinkMacSystemFont\, Roboto\, &quot\;Helvetica Neue&quot\;\, Helvetica\, Tahoma\, Arial\, sans-serif\;">In partnership with Comcast\, NBC CT and The Amistad Center for Art &amp\; Culture\, we bring you a special screening of TV One&#39\;s new dating series &quot\;Asking For A Friend&quot\; .</p>\n\n<p style="margin: 0px\; padding: 10px 0px 0px\; box-sizing: border-box\; color: rgb(111\, 114\, 135)\; font-size: 16px\; line-height: 1.5rem\; font-family: &quot\;Neue Plak&quot\;\, -apple-system\, BlinkMacSystemFont\, Roboto\, &quot\;Helvetica Neue&quot\;\, Helvetica\, Tahoma\, Arial\, sans-serif\;">&nbsp\;</p>\n\n<p style="margin: 0px\; padding: 10px 0px 0px\; box-sizing: border-box\; color: rgb(111\, 114\, 135)\; font-size: 16px\; line-height: 1.5rem\; font-family: &quot\;Neue Plak&quot\;\, -apple-system\, BlinkMacSystemFont\, Roboto\, &quot\;Helvetica Neue&quot\;\, Helvetica\, Tahoma\, Arial\, sans-serif\;">Enjoy food and drink\, raffle prizes and the fellowship of community along with smooth jazz performed by the The Michael Carabello Trio.</p>\n
LOCATION:The Amistad Center for Art & Culture at the Wadsworth Atheneum 600 Main Street Hartford\, CT 06103
UID:e.1932.24834
SEQUENCE:3
DTSTAMP:20260420T181912Z
URL:https://business.middlesexchamber.com/events/details/celebrating-black-history-month-through-the-power-of-love-24834
END:VEVENT

END:VCALENDAR
